BEGIN:VCALENDAR
VERSION:2.0
PRODID:-//www.insightmcc.org//NONSGML kigkonsult.se iCalcreator 2.30.10//
CALSCALE:GREGORIAN
METHOD:PUBLISH
UID:e8a4c1e9-dfba-4236-b0ba-09092aa8a1a7
X-WR-CALDESC:Learn the basics of dementia\, including Alzheimer’s disease a
 nd other dementias. While not everyone travels the same path\, come and le
 arn about the general stages to help you anticipate future changes.\n\nThi
 s program is presented by the Insight Memory Care Team at the Arlington Mi
 ll Community Center. Please contact the event contact listed below to regi
 ster.
X-WR-RELCALID:57c58cbbb8841d76d71354fb471bf0ec
X-WR-TIMEZONE:America/New_York
BEGIN:VTIMEZONE
TZID:America/New_York
BEGIN:STANDARD
TZNAME:EST
DTSTART:20231105T020000
TZOFFSETFROM:-0400
TZOFFSETTO:-0500
RDATE:20241103T020000
RDATE:20251102T020000
END:STANDARD
BEGIN:DAYLIGHT
TZNAME:EDT
DTSTART:20240310T020000
TZOFFSETFROM:-0500
TZOFFSETTO:-0400
RDATE:20250309T020000
END:DAYLIGHT
END:VTIMEZONE
BEGIN:VEVENT
UID:99e66bc5-463e-4327-937d-7f890672726f
DTSTAMP:20260421T124749Z
DESCRIPTION:Learn the basics of dementia\, including Alzheimer’s disease an
 d other dementias. While not everyone travels the same path\, come and lea
 rn about the general stages to help you anticipate future changes.\n\nThis
  program is presented by the Insight Memory Care Team at the Arlington Mil
 l Community Center. Please contact the event contact listed below to regis
 ter.
DTSTART;TZID=America/New_York:20240612T180000
DTEND;TZID=America/New_York:20240612T190000
LOCATION:Arlington Mill Senior Center\, 909 S. Dinwiddie St\, Arlington\, V
 A 22204 US
SUMMARY:Dementia 101
END:VEVENT
END:VCALENDAR
