BEGIN:VCALENDAR
VERSION:2.0
PRODID:-//www.insightmcc.org//NONSGML kigkonsult.se iCalcreator 2.30.10//
CALSCALE:GREGORIAN
METHOD:PUBLISH
UID:19fb4296-006e-40a7-b0a7-dac29f329ee6
X-WR-CALDESC:Behaviors do not define the person\, they are just a product o
 f the disease. If they had the ability\, they would probably choose to act
  differently! We'll discuss tools to improve interactions\, prevent\, and 
 solve behaviors. \n\nThis event is held at Elancé at Old Town Alexandria a
 nd presented by Melissa Long\, Director of Education and Support at Insigh
 t Memory Care Center. Please RSVP to the contact info listed below.
X-WR-RELCALID:88b43bf68f8639edd1f5b5c2c4b58505
X-WR-TIMEZONE:America/New_York
BEGIN:VTIMEZONE
TZID:America/New_York
BEGIN:STANDARD
TZNAME:EST
DTSTART:20231105T020000
TZOFFSETFROM:-0400
TZOFFSETTO:-0500
RDATE:20241103T020000
RDATE:20251102T020000
END:STANDARD
BEGIN:DAYLIGHT
TZNAME:EDT
DTSTART:20240310T020000
TZOFFSETFROM:-0500
TZOFFSETTO:-0400
RDATE:20250309T020000
END:DAYLIGHT
END:VTIMEZONE
BEGIN:VEVENT
UID:fcd42cbc-6b17-4d76-a1dd-0695ae10e270
DTSTAMP:20260421T124748Z
DESCRIPTION:Behaviors do not define the person\, they are just a product of
  the disease. If they had the ability\, they would probably choose to act 
 differently! We'll discuss tools to improve interactions\, prevent\, and s
 olve behaviors. \n\nThis event is held at Elancé at Old Town Alexandria an
 d presented by Melissa Long\, Director of Education and Support at Insight
  Memory Care Center. Please RSVP to the contact info listed below.
DTSTART;TZID=America/New_York:20240612T190000
DTEND;TZID=America/New_York:20240612T200000
LOCATION:Elancé at Old Town Alexandria\, 400 N Washington Street\, Alexandr
 ia\, VA 22314 US
SUMMARY:Difficult Behaviors: What? Where? When? Why?
END:VEVENT
END:VCALENDAR
