BEGIN:VCALENDAR
VERSION:2.0
PRODID:-//www.insightmcc.org//NONSGML kigkonsult.se iCalcreator 2.30.10//
CALSCALE:GREGORIAN
METHOD:PUBLISH
UID:23526cb3-e615-451a-89c4-90db249d6f63
X-WR-CALDESC:Join us for a discussion about the importance of socialization
  when aging. Research has found that social support can play a significant
  role in overall health as people age. Spending time with friends and fami
 ly members can boost quality of life\, including both physical and mental 
 health.\n\nThis program is presented by the Insight Memory Care Team at th
 e Reston Community Center. Please contact the event contact listed below t
 o register.
X-WR-RELCALID:f40d00f20b27cff6569f8f868127b868
X-WR-TIMEZONE:America/New_York
BEGIN:VTIMEZONE
TZID:America/New_York
BEGIN:STANDARD
TZNAME:EST
DTSTART:20231105T020000
TZOFFSETFROM:-0400
TZOFFSETTO:-0500
RDATE:20241103T020000
RDATE:20251102T020000
END:STANDARD
BEGIN:DAYLIGHT
TZNAME:EDT
DTSTART:20240310T020000
TZOFFSETFROM:-0500
TZOFFSETTO:-0400
RDATE:20250309T020000
END:DAYLIGHT
END:VTIMEZONE
BEGIN:VEVENT
UID:ac2d855f-b491-4d48-ad23-08759e850632
DTSTAMP:20260421T125428Z
DESCRIPTION:Join us for a discussion about the importance of socialization 
 when aging. Research has found that social support can play a significant 
 role in overall health as people age. Spending time with friends and famil
 y members can boost quality of life\, including both physical and mental h
 ealth.\n\nThis program is presented by the Insight Memory Care Team at the
  Reston Community Center. Please contact the event contact listed below to
  register.
DTSTART;TZID=America/New_York:20240612T130000
DTEND;TZID=America/New_York:20240612T140000
LOCATION:Reston Community Players (Reston Community Center Hunters Woods)\,
  2310 Colts Neck Road\, Reston\, VA 20191 US
SUMMARY:Importance of Socialization When Aging
END:VEVENT
END:VCALENDAR
