BEGIN:VCALENDAR
VERSION:2.0
PRODID:-//www.insightmcc.org//NONSGML kigkonsult.se iCalcreator 2.30.10//
CALSCALE:GREGORIAN
METHOD:PUBLISH
UID:c947733a-8c5b-445f-8b10-4cc2724cf863
X-WR-CALDESC:Age-related cognitive decline has a profound impact on the dai
 ly functioning of older adults\, their families and healthcare systems. Cu
 rrently 46.8 million people worldwide are living with dementia. This numbe
 r will double by 2030 and more than triple by 2050. We will discuss these 
 statistics and how a structured exercise program in a community setting fo
 r older\, sedentary adults is associated with benefits to physical and cog
 nitive health.\n\n<b>This class will be held both virtually and in-person 
 in Fairfax. Please select your attendance type when you register.</b>\n\nT
 he in-person session will be held in the Mazawey Education and Support Cen
 ter\, 3955 Pender Drive\, Suite 100\, Fairfax\, VA 22030.\n\nVirtual atten
 dees will receive Zoom information prior to the class.\n\nThis program is 
 a part of our monthly Care Partner Training series. All sessions are FREE\
 , and held the second Wednesday of each month from 1:00 to 2:30 pm.\n\n&nb
 sp\;\n<strong><a href='https://insightmemory.app.neoncrm.com/eventReg.jsp?
 event=1464&' class='button'>Sign Me Up - In Person</a></strong>\n\n<strong
 ><a href='https://insightmemory.app.neoncrm.com/eventReg.jsp?event=1469&' 
 class='button'>Sign Me Up - Virtual</a></strong>\n\n\n<i>Presenter</i>\nDr
 . Kieran F. Reid\, PhD\, MPH\nDr. Kieran F. Reid\, Ph.D.\, MPH is a Direct
 or of the Laboratory of Exercise Physiology and Physical Performance at th
 e Brigham and Women's Hospital. Dr. Reid completed his Doctorate in Clinic
 al Research from Trinity College\, Dublin in 2014\, having systematically 
 examined aspects of muscle performance\, mobility limitations\, exercise i
 nterventions\, and cognitive functioning in older adults. In addition to h
 is initial undergraduate training in Exercise Physiology\, Dr. Reid also p
 ossesses an MPH degree in Epidemiology and Biostatistics from Tufts Univer
 sity School of Medicine. He has extensive training and experience in condu
 cting clinical trials designed to assess and maintain physical and cogniti
 ve function in older adults.\n
X-WR-RELCALID:e2bddd66228e872abf5ca63a498cca24
X-WR-TIMEZONE:America/New_York
BEGIN:VTIMEZONE
TZID:America/New_York
BEGIN:STANDARD
TZNAME:EST
DTSTART:20231105T020000
TZOFFSETFROM:-0400
TZOFFSETTO:-0500
RDATE:20241103T020000
RDATE:20251102T020000
END:STANDARD
BEGIN:DAYLIGHT
TZNAME:EDT
DTSTART:20240310T020000
TZOFFSETFROM:-0500
TZOFFSETTO:-0400
RDATE:20250309T020000
END:DAYLIGHT
END:VTIMEZONE
BEGIN:VEVENT
UID:850062a8-0d84-470b-8513-c39eb7972e1d
DTSTAMP:20260421T125423Z
DESCRIPTION:Age-related cognitive decline has a profound impact on the dail
 y functioning of older adults\, their families and healthcare systems. Cur
 rently 46.8 million people worldwide are living with dementia. This number
  will double by 2030 and more than triple by 2050. We will discuss these s
 tatistics and how a structured exercise program in a community setting for
  older\, sedentary adults is associated with benefits to physical and cogn
 itive health.\n\n<b>This class will be held both virtually and in-person i
 n Fairfax. Please select your attendance type when you register.</b>\n\nTh
 e in-person session will be held in the Mazawey Education and Support Cent
 er\, 3955 Pender Drive\, Suite 100\, Fairfax\, VA 22030.\n\nVirtual attend
 ees will receive Zoom information prior to the class.\n\nThis program is a
  part of our monthly Care Partner Training series. All sessions are FREE\,
  and held the second Wednesday of each month from 1:00 to 2:30 pm.\n\n&nbs
 p\;\n<strong><a href='https://insightmemory.app.neoncrm.com/eventReg.jsp?e
 vent=1464&' class='button'>Sign Me Up - In Person</a></strong>\n\n<strong>
 <a href='https://insightmemory.app.neoncrm.com/eventReg.jsp?event=1469&' c
 lass='button'>Sign Me Up - Virtual</a></strong>\n\n\n<i>Presenter</i>\nDr.
  Kieran F. Reid\, PhD\, MPH\nDr. Kieran F. Reid\, Ph.D.\, MPH is a Directo
 r of the Laboratory of Exercise Physiology and Physical Performance at the
  Brigham and Women's Hospital. Dr. Reid completed his Doctorate in Clinica
 l Research from Trinity College\, Dublin in 2014\, having systematically e
 xamined aspects of muscle performance\, mobility limitations\, exercise in
 terventions\, and cognitive functioning in older adults. In addition to hi
 s initial undergraduate training in Exercise Physiology\, Dr. Reid also po
 ssesses an MPH degree in Epidemiology and Biostatistics from Tufts Univers
 ity School of Medicine. He has extensive training and experience in conduc
 ting clinical trials designed to assess and maintain physical and cognitiv
 e function in older adults.\n
DTSTART;TZID=America/New_York:20240612T130000
DTEND;TZID=America/New_York:20240612T143000
LOCATION:Hybrid! Virtual and in-person at Insight Memory Care Center - Fair
 fax
SUMMARY:Reducing Falls and Improving Cognition with Exercise
END:VEVENT
END:VCALENDAR
