BEGIN:VCALENDAR
VERSION:2.0
PRODID:-//www.insightmcc.org//NONSGML kigkonsult.se iCalcreator 2.30.10//
CALSCALE:GREGORIAN
METHOD:PUBLISH
UID:999ea4e0-d4eb-4f97-8313-7946fea4c377
X-WR-CALDESC:This group will offer a safe\, welcoming and private setting f
 or caregivers to share their caregiving experiences\, connect with others 
 going through the same journey and receive insight from an expert. There w
 ill also be group discussions and educational presentations about relevant
  caregiving topics.\n\nFor June the topic will be Nutrition for Older Adul
 ts. Food not only provides us with nutritional needs\, but also brings us 
 joy and pleasure. That can change as we age. From taste buds changing\, de
 ntal health can be more challenging\, arthritis can make food prep painful
 \, and medications and mood disorders can steal our appetite. Let's learn 
 some quick\, easy and healthy ways to meet those needs.\n\nPlease contact 
 the event contact listed below to register.
X-WR-RELCALID:19764db6a2670393baf1eb26fdc0a7e4
X-WR-TIMEZONE:America/New_York
BEGIN:VTIMEZONE
TZID:America/New_York
BEGIN:STANDARD
TZNAME:EST
DTSTART:20231105T020000
TZOFFSETFROM:-0400
TZOFFSETTO:-0500
RDATE:20241103T020000
RDATE:20251102T020000
END:STANDARD
BEGIN:DAYLIGHT
TZNAME:EDT
DTSTART:20240310T020000
TZOFFSETFROM:-0500
TZOFFSETTO:-0400
RDATE:20250309T020000
END:DAYLIGHT
END:VTIMEZONE
BEGIN:VEVENT
UID:7888a0aa-ce3f-4338-93f8-899853017768
DTSTAMP:20260421T130349Z
DESCRIPTION:This group will offer a safe\, welcoming and private setting fo
 r caregivers to share their caregiving experiences\, connect with others g
 oing through the same journey and receive insight from an expert. There wi
 ll also be group discussions and educational presentations about relevant 
 caregiving topics.\n\nFor June the topic will be Nutrition for Older Adult
 s. Food not only provides us with nutritional needs\, but also brings us j
 oy and pleasure. That can change as we age. From taste buds changing\, den
 tal health can be more challenging\, arthritis can make food prep painful\
 , and medications and mood disorders can steal our appetite. Let's learn s
 ome quick\, easy and healthy ways to meet those needs.\n\nPlease contact t
 he event contact listed below to register.
DTSTART;TZID=America/New_York:20240613T150000
DTEND;TZID=America/New_York:20240613T160000
LOCATION:Great Falls Assisted Living\, 1121 Reston Ave\, Herndon\, VA 20170
  US
SUMMARY:Caregiver Support Group - Nutrition for Older Adults
END:VEVENT
END:VCALENDAR
