BEGIN:VCALENDAR
VERSION:2.0
PRODID:-//www.insightmcc.org//NONSGML kigkonsult.se iCalcreator 2.30.10//
CALSCALE:GREGORIAN
METHOD:PUBLISH
UID:9c1680ca-e936-4f00-8eee-0d3ecaf81a2b
X-WR-CALDESC:Learn how to define dementia\, distinguish the different types
 \, and gain an understanding of the typical path of disease progression.\n
 \nThis event is held at Waltonwood at Ashburn and presented by the educati
 on team at Insight. Please contact the event contact listed below to regis
 ter.
X-WR-RELCALID:723263f30ee74889919f28b938af7162
X-WR-TIMEZONE:America/New_York
BEGIN:VTIMEZONE
TZID:America/New_York
BEGIN:STANDARD
TZNAME:EST
DTSTART:20231105T020000
TZOFFSETFROM:-0400
TZOFFSETTO:-0500
RDATE:20241103T020000
RDATE:20251102T020000
END:STANDARD
BEGIN:DAYLIGHT
TZNAME:EDT
DTSTART:20240310T020000
TZOFFSETFROM:-0500
TZOFFSETTO:-0400
RDATE:20250309T020000
END:DAYLIGHT
END:VTIMEZONE
BEGIN:VEVENT
UID:0244cca5-056a-41ea-b452-9cc5b88f98ac
DTSTAMP:20260421T125408Z
DESCRIPTION:Learn how to define dementia\, distinguish the different types\
 , and gain an understanding of the typical path of disease progression.\n
 \nThis event is held at Waltonwood at Ashburn and presented by the educati
 on team at Insight. Please contact the event contact listed below to regis
 ter.
DTSTART;TZID=America/New_York:20240617T140000
DTEND;TZID=America/New_York:20240617T150000
LOCATION:Waltonwood at Ashburn\, 44141 Russell Branch Pkwy\, Ashburn\, VA 2
 0147 US
SUMMARY:Dementia 101
END:VEVENT
END:VCALENDAR
