BEGIN:VCALENDAR
VERSION:2.0
PRODID:-//www.insightmcc.org//NONSGML kigkonsult.se iCalcreator 2.30.10//
CALSCALE:GREGORIAN
METHOD:PUBLISH
UID:f8eafd91-1d6a-4a9d-8487-cdaa5139889c
X-WR-CALDESC:Learn more about age-related changes in memory and learning\, 
 and practices to keep your brain sharp! Learn what to expect\, what’s “nor
 mal\,” and when it’s time to seek a doctor’s input.\n\nThis program is pre
 sented by the Insight Memory Care Team virtually in partnership with Servi
 ceSource via the Virtual Center for Active Adults. Please find the info on
  how to access the virtual event at the link below.
X-WR-RELCALID:a65f8dd1853029b3387960a1d5a83c54
X-WR-TIMEZONE:America/New_York
BEGIN:VTIMEZONE
TZID:America/New_York
BEGIN:STANDARD
TZNAME:EST
DTSTART:20231105T020000
TZOFFSETFROM:-0400
TZOFFSETTO:-0500
RDATE:20241103T020000
RDATE:20251102T020000
END:STANDARD
BEGIN:DAYLIGHT
TZNAME:EDT
DTSTART:20240310T020000
TZOFFSETFROM:-0500
TZOFFSETTO:-0400
RDATE:20250309T020000
END:DAYLIGHT
END:VTIMEZONE
BEGIN:VEVENT
UID:1e5ccccb-e78e-4fad-a530-efc626f9a113
DTSTAMP:20260421T125545Z
DESCRIPTION:Learn more about age-related changes in memory and learning\, a
 nd practices to keep your brain sharp! Learn what to expect\, what’s “norm
 al\,” and when it’s time to seek a doctor’s input.\n\nThis program is pres
 ented by the Insight Memory Care Team virtually in partnership with Servic
 eSource via the Virtual Center for Active Adults. Please find the info on 
 how to access the virtual event at the link below.
DTSTART;TZID=America/New_York:20240618T130000
DTEND;TZID=America/New_York:20240618T140000
LOCATION:https://www.fairfaxcounty.gov/neighborhood-community-services/virt
 ual-center-active-adults
SUMMARY:Brain Health as You Age
END:VEVENT
END:VCALENDAR
