BEGIN:VCALENDAR
VERSION:2.0
PRODID:-//www.insightmcc.org//NONSGML kigkonsult.se iCalcreator 2.30.10//
CALSCALE:GREGORIAN
METHOD:PUBLISH
UID:108faeb5-47ad-4a3b-a863-3041b52f8f16
X-WR-CALDESC:Insight will be closed for Juneteenth. Enjoy your holiday!
X-WR-RELCALID:febecaed8d0ebb780e23fdc60c5ea353
X-WR-TIMEZONE:America/New_York
BEGIN:VTIMEZONE
TZID:America/New_York
BEGIN:STANDARD
TZNAME:EST
DTSTART:20231105T020000
TZOFFSETFROM:-0400
TZOFFSETTO:-0500
RDATE:20241103T020000
RDATE:20251102T020000
END:STANDARD
BEGIN:DAYLIGHT
TZNAME:EDT
DTSTART:20240310T020000
TZOFFSETFROM:-0500
TZOFFSETTO:-0400
RDATE:20250309T020000
END:DAYLIGHT
END:VTIMEZONE
BEGIN:VEVENT
UID:a93c5405-ee08-4225-b623-753c7d451948
DTSTAMP:20260421T124739Z
DESCRIPTION:Insight will be closed for Juneteenth. Enjoy your holiday!
DTSTART;TZID=America/New_York:20240619T060000
DTEND;TZID=America/New_York:20240619T060001
LOCATION:
SUMMARY:Insight Closed
END:VEVENT
END:VCALENDAR
