BEGIN:VCALENDAR
VERSION:2.0
PRODID:-//www.insightmcc.org//NONSGML kigkonsult.se iCalcreator 2.30.10//
CALSCALE:GREGORIAN
METHOD:PUBLISH
UID:d7b20a29-2d64-46b1-b0db-0accf22bd842
X-WR-CALDESC:The Virtual Dementia Tour (VDT) is designed to help simulate t
 he effects of dementia. A trained facilitator will guide participants outf
 itted with patented devices that alter their senses while they try to comp
 lete common everyday tasks and exercises. The Tour enables caregivers to e
 xperience for themselves the physical and mental challenges those with dem
 entia face\, and use the experience to provide better person-centered care
 .\n\nSign up for a specific time slot by reaching out to the contact below
 \; only two are available each half-hour. \n\nPick your slot today to gain
  better insight into caring for those with memory impairments!
X-WR-RELCALID:8102606bcc84060cfdf24332a89bd41a
X-WR-TIMEZONE:America/New_York
BEGIN:VTIMEZONE
TZID:America/New_York
BEGIN:STANDARD
TZNAME:EST
DTSTART:20231105T020000
TZOFFSETFROM:-0400
TZOFFSETTO:-0500
RDATE:20241103T020000
RDATE:20251102T020000
END:STANDARD
BEGIN:DAYLIGHT
TZNAME:EDT
DTSTART:20240310T020000
TZOFFSETFROM:-0500
TZOFFSETTO:-0400
RDATE:20250309T020000
END:DAYLIGHT
END:VTIMEZONE
BEGIN:VEVENT
UID:2541c1c7-e81e-43ad-834d-fcdcbb89dac4
DTSTAMP:20260421T130554Z
DESCRIPTION:The Virtual Dementia Tour (VDT) is designed to help simulate th
 e effects of dementia. A trained facilitator will guide participants outfi
 tted with patented devices that alter their senses while they try to compl
 ete common everyday tasks and exercises. The Tour enables caregivers to ex
 perience for themselves the physical and mental challenges those with deme
 ntia face\, and use the experience to provide better person-centered care.
 \n\nSign up for a specific time slot by reaching out to the contact below\
 ; only two are available each half-hour. \n\nPick your slot today to gain 
 better insight into caring for those with memory impairments!
DTSTART;TZID=America/New_York:20240626T100000
DTEND;TZID=America/New_York:20240626T140000
LOCATION:Hunters Woods at Trails Edge\, 2222 Colts Neck Road\, Reston\, VA 
 20191 US
SUMMARY:Virtual Dementia Tour (VDT) (in-person event)
END:VEVENT
END:VCALENDAR
