BEGIN:VCALENDAR
VERSION:2.0
PRODID:-//www.insightmcc.org//NONSGML kigkonsult.se iCalcreator 2.30.10//
CALSCALE:GREGORIAN
METHOD:PUBLISH
UID:97a346e7-a4e3-4fa7-84bc-8a955211d5da
X-WR-CALDESC:Learn how to define dementia\, distinguish the different types
 \, and gain an understanding of the typical path of disease progression. A
 lso learn about changes that occur with age\, warning signs of a memory pr
 oblem\, and what to do if someone you love is experiencing symptoms.\n\nTh
 is event is held at Green Acres Center and presented by the education team
  at Insight. Please contact the event contact listed below to register or 
 use the Register Here link below.
X-WR-RELCALID:ae33148f77be9cc5be9663af5fe0bce9
X-WR-TIMEZONE:America/New_York
BEGIN:VTIMEZONE
TZID:America/New_York
BEGIN:STANDARD
TZNAME:EST
DTSTART:20231105T020000
TZOFFSETFROM:-0400
TZOFFSETTO:-0500
RDATE:20241103T020000
RDATE:20251102T020000
END:STANDARD
BEGIN:DAYLIGHT
TZNAME:EDT
DTSTART:20240310T020000
TZOFFSETFROM:-0500
TZOFFSETTO:-0400
RDATE:20250309T020000
END:DAYLIGHT
END:VTIMEZONE
BEGIN:VEVENT
UID:6a2e2c2c-c186-466c-8105-8e9cfbda4bbb
DTSTAMP:20260421T124750Z
DESCRIPTION:Learn how to define dementia\, distinguish the different types\
 , and gain an understanding of the typical path of disease progression. Al
 so learn about changes that occur with age\, warning signs of a memory pro
 blem\, and what to do if someone you love is experiencing symptoms.\n\nThi
 s event is held at Green Acres Center and presented by the education team 
 at Insight. Please contact the event contact listed below to register or u
 se the Register Here link below.
DTSTART;TZID=America/New_York:20240628T120000
DTEND;TZID=America/New_York:20240628T130000
LOCATION:Green Acres Center\, 4401 Sideburn Rd\, Fairfax\, VA 22030 US
SUMMARY:Dementia 101
END:VEVENT
END:VCALENDAR
