BEGIN:VCALENDAR
VERSION:2.0
PRODID:-//www.insightmcc.org//NONSGML kigkonsult.se iCalcreator 2.30.10//
CALSCALE:GREGORIAN
METHOD:PUBLISH
UID:5cacab7b-afb0-47cc-a0c7-3fef7929dece
X-WR-CALDESC:Insight will be closed for Independence Day. Enjoy your holida
 y!
X-WR-RELCALID:d40e575be7ce31c121eecfe5b51fd9b2
X-WR-TIMEZONE:America/New_York
BEGIN:VTIMEZONE
TZID:America/New_York
BEGIN:STANDARD
TZNAME:EST
DTSTART:20231105T020000
TZOFFSETFROM:-0400
TZOFFSETTO:-0500
RDATE:20241103T020000
RDATE:20251102T020000
END:STANDARD
BEGIN:DAYLIGHT
TZNAME:EDT
DTSTART:20240310T020000
TZOFFSETFROM:-0500
TZOFFSETTO:-0400
RDATE:20250309T020000
END:DAYLIGHT
END:VTIMEZONE
BEGIN:VEVENT
UID:56a31924-f917-4593-a23e-1b2b075804ae
DTSTAMP:20260421T141948Z
DESCRIPTION:Insight will be closed for Independence Day. Enjoy your holiday
 !
DTSTART;TZID=America/New_York:20240704T060000
DTEND;TZID=America/New_York:20240704T060001
LOCATION:
SUMMARY:Insight Closed
END:VEVENT
END:VCALENDAR
