BEGIN:VCALENDAR
VERSION:2.0
PRODID:-//www.insightmcc.org//NONSGML kigkonsult.se iCalcreator 2.30.10//
CALSCALE:GREGORIAN
METHOD:PUBLISH
UID:cd276bec-ecec-41f2-b77c-a5ffb2ed22cb
X-WR-CALDESC:Join us for an interactive discussion for caregivers to share 
 expertise on how a meaningful visit can foster more joy and connection wit
 h your loved one.\n\nThis program is presented by the Insight Memory Care 
 Team at Elancé at West End. Please contact the event contact listed below 
 to register.
X-WR-RELCALID:3ef352fd6b8497d1b5368ae27356ca62
X-WR-TIMEZONE:America/New_York
BEGIN:VTIMEZONE
TZID:America/New_York
BEGIN:STANDARD
TZNAME:EST
DTSTART:20231105T020000
TZOFFSETFROM:-0400
TZOFFSETTO:-0500
RDATE:20241103T020000
RDATE:20251102T020000
END:STANDARD
BEGIN:DAYLIGHT
TZNAME:EDT
DTSTART:20240310T020000
TZOFFSETFROM:-0500
TZOFFSETTO:-0400
RDATE:20250309T020000
END:DAYLIGHT
END:VTIMEZONE
BEGIN:VEVENT
UID:ef34ff6b-4c52-4fae-b279-1601887397aa
DTSTAMP:20260421T143417Z
DESCRIPTION:Join us for an interactive discussion for caregivers to share e
 xpertise on how a meaningful visit can foster more joy and connection with
  your loved one.\n\nThis program is presented by the Insight Memory Care T
 eam at Elancé at West End. Please contact the event contact listed below t
 o register.
DTSTART;TZID=America/New_York:20240709T190000
DTEND;TZID=America/New_York:20240709T200000
LOCATION:Elancé at West End\, 5550 Cardinal Pl\, Alexandria\, VA 22304 US
SUMMARY:Meaningful Visits with Your Loved One in an Assisted Living or Memo
 ry Care Community
END:VEVENT
END:VCALENDAR
