BEGIN:VCALENDAR
VERSION:2.0
PRODID:-//www.insightmcc.org//NONSGML kigkonsult.se iCalcreator 2.30.10//
CALSCALE:GREGORIAN
METHOD:PUBLISH
UID:c92d0e77-fc05-43ff-9c11-2b5d0b9864c2
X-WR-CALDESC:The café is an opportunity for caregivers and their loved one 
 with mild cognitive impairment (MCI) or in the early to early mid-stage of
  their dementia journey to meet with others for support\, companionship\, 
 and fun! The program provides structured activities to promote reminiscenc
 e\, cognition\, and engagement. There is also time to share in conversatio
 n and get to know others in a safe\, supportive environment.\n\nTo ensure 
 we have space and program supplies for each participant\, we ask that you 
 please register in advance by contacting the event contact listed below. 
 \n\nThis café meets at Renaissance of Annandale on the 2nd Wednesday of th
 e month. We look forward to seeing you at the next café!
X-WR-RELCALID:657c8fd606f04bf2d1709435b0122471
X-WR-TIMEZONE:America/New_York
BEGIN:VTIMEZONE
TZID:America/New_York
BEGIN:STANDARD
TZNAME:EST
DTSTART:20231105T020000
TZOFFSETFROM:-0400
TZOFFSETTO:-0500
RDATE:20241103T020000
RDATE:20251102T020000
END:STANDARD
BEGIN:DAYLIGHT
TZNAME:EDT
DTSTART:20240310T020000
TZOFFSETFROM:-0500
TZOFFSETTO:-0400
RDATE:20250309T020000
END:DAYLIGHT
END:VTIMEZONE
BEGIN:VEVENT
UID:ab66c73e-380a-4cc8-861e-6d4d79e2486e
DTSTAMP:20260421T142935Z
DESCRIPTION:The café is an opportunity for caregivers and their loved one w
 ith mild cognitive impairment (MCI) or in the early to early mid-stage of 
 their dementia journey to meet with others for support\, companionship\, a
 nd fun! The program provides structured activities to promote reminiscence
 \, cognition\, and engagement. There is also time to share in conversation
  and get to know others in a safe\, supportive environment.\n\nTo ensure w
 e have space and program supplies for each participant\, we ask that you p
 lease register in advance by contacting the event contact listed below. \n
 \nThis café meets at Renaissance of Annandale on the 2nd Wednesday of the 
 month. We look forward to seeing you at the next café!
DTSTART;TZID=America/New_York:20240710T110000
DTEND;TZID=America/New_York:20240710T120000
LOCATION:Renaissance of Annandale\, 7112 Braddock Road \, Annandale\, VA 22
 003 US
SUMMARY:Memory Café at Renaissance of Annandale
END:VEVENT
END:VCALENDAR
