BEGIN:VCALENDAR
VERSION:2.0
PRODID:-//www.insightmcc.org//NONSGML kigkonsult.se iCalcreator 2.30.10//
CALSCALE:GREGORIAN
METHOD:PUBLISH
UID:314faa8f-5f0b-45b7-97b1-e89e6e611e5a
X-WR-CALDESC:Trauma-informed practice in dementia care is a way of caring f
 or individuals living with dementia that takes into account the possibilit
 y that they may have experienced traumatic events in their lives. More tha
 n 70 percent of older people have experienced a psychologically traumatic 
 event. The effects of these events can continue into late life\, and the o
 nset of dementia can interact with trauma-related needs in important ways.
 \n\nTrauma-informed care is an under-utilized yet potentially beneficial a
 pproach to care for older adults in many settings. An individualized respo
 nse from staff which when effectively implemented can promote staff and pa
 rticipant safety\, reduce the risk of re-traumatization\, and minimize adv
 erse events. Join us to learn more!\n\n<b>This class will be held both vir
 tually and in-person in Fairfax. Please select your attendance type when y
 ou register.</b>\n\nThe in-person session will be held in the Mazawey Educ
 ation and Support Center\, 3955 Pender Drive\, Suite 100\, Fairfax\, VA 22
 030.\n\nVirtual attendees will receive Zoom information prior to the class
 .\n\nThis program is a part of our monthly Care Partner Training series. A
 ll sessions are FREE\, and held the second Wednesday of each month from 1:
 00 to 2:30 pm.\n\n\n\n&nbsp\;\n<strong><a href='https://insightmemory.app.
 neoncrm.com/eventReg.jsp?event=1494&' class='button'>Sign Me Up - In Perso
 n</a></strong>\n\n<strong><a href='https://insightmemory.app.neoncrm.com/e
 ventReg.jsp?event=1499&' class='button'>Sign Me Up - Virtual</a></strong>
 \n\n\n<b>Presenter</b>\nFairfax County Department of Neighborhood and Comm
 unity Services\, Trauma-Informed Community Network
X-WR-RELCALID:4be5005a64ce839f4de136bfeeba6ad7
X-WR-TIMEZONE:America/New_York
BEGIN:VTIMEZONE
TZID:America/New_York
BEGIN:STANDARD
TZNAME:EST
DTSTART:20231105T020000
TZOFFSETFROM:-0400
TZOFFSETTO:-0500
RDATE:20241103T020000
RDATE:20251102T020000
END:STANDARD
BEGIN:DAYLIGHT
TZNAME:EDT
DTSTART:20240310T020000
TZOFFSETFROM:-0500
TZOFFSETTO:-0400
RDATE:20250309T020000
END:DAYLIGHT
END:VTIMEZONE
BEGIN:VEVENT
UID:8f06b4bb-e5de-4516-a3db-6f9bea662aec
DTSTAMP:20260421T142827Z
DESCRIPTION:Trauma-informed practice in dementia care is a way of caring fo
 r individuals living with dementia that takes into account the possibility
  that they may have experienced traumatic events in their lives. More than
  70 percent of older people have experienced a psychologically traumatic e
 vent. The effects of these events can continue into late life\, and the on
 set of dementia can interact with trauma-related needs in important ways.
 \n\nTrauma-informed care is an under-utilized yet potentially beneficial a
 pproach to care for older adults in many settings. An individualized respo
 nse from staff which when effectively implemented can promote staff and pa
 rticipant safety\, reduce the risk of re-traumatization\, and minimize adv
 erse events. Join us to learn more!\n\n<b>This class will be held both vir
 tually and in-person in Fairfax. Please select your attendance type when y
 ou register.</b>\n\nThe in-person session will be held in the Mazawey Educ
 ation and Support Center\, 3955 Pender Drive\, Suite 100\, Fairfax\, VA 22
 030.\n\nVirtual attendees will receive Zoom information prior to the class
 .\n\nThis program is a part of our monthly Care Partner Training series. A
 ll sessions are FREE\, and held the second Wednesday of each month from 1:
 00 to 2:30 pm.\n\n\n\n&nbsp\;\n<strong><a href='https://insightmemory.app.
 neoncrm.com/eventReg.jsp?event=1494&' class='button'>Sign Me Up - In Perso
 n</a></strong>\n\n<strong><a href='https://insightmemory.app.neoncrm.com/e
 ventReg.jsp?event=1499&' class='button'>Sign Me Up - Virtual</a></strong>
 \n\n\n<b>Presenter</b>\nFairfax County Department of Neighborhood and Comm
 unity Services\, Trauma-Informed Community Network
DTSTART;TZID=America/New_York:20240710T130000
DTEND;TZID=America/New_York:20240710T143000
LOCATION:Hybrid! Virtual and in-person at Insight Memory Care Center - Fair
 fax
SUMMARY:Trauma-Informed Care and Dementia
END:VEVENT
END:VCALENDAR
