BEGIN:VCALENDAR
VERSION:2.0
PRODID:-//www.insightmcc.org//NONSGML kigkonsult.se iCalcreator 2.30.10//
CALSCALE:GREGORIAN
METHOD:PUBLISH
UID:434b658b-ba37-43e1-85ec-07a450ab58ee
X-WR-CALDESC:This group will offer a safe\, welcoming and private setting f
 or caregivers to share their caregiving experiences\, connect with others 
 going through the same journey and receive insight from an expert. There w
 ill also be group discussions and educational presentations about relevant
  caregiving topics.\n\nFor July the topic will be The Art of Activities an
 d Engagement. How can you reconnect with someone with dementia? Keeping th
 eir current abilities in mind. Learn ways to keep your loved one engaged i
 n personalized activities.\n\n\nPlease contact with the event contact belo
 w to RSVP.
X-WR-RELCALID:c62ea78e420fceb158044b1c2d8dc061
X-WR-TIMEZONE:America/New_York
BEGIN:VTIMEZONE
TZID:America/New_York
BEGIN:STANDARD
TZNAME:EST
DTSTART:20231105T020000
TZOFFSETFROM:-0400
TZOFFSETTO:-0500
RDATE:20241103T020000
RDATE:20251102T020000
END:STANDARD
BEGIN:DAYLIGHT
TZNAME:EDT
DTSTART:20240310T020000
TZOFFSETFROM:-0500
TZOFFSETTO:-0400
RDATE:20250309T020000
END:DAYLIGHT
END:VTIMEZONE
BEGIN:VEVENT
UID:59ec3c5e-27bc-4e97-8ac7-85d5498ba055
DTSTAMP:20260421T143612Z
DESCRIPTION:This group will offer a safe\, welcoming and private setting fo
 r caregivers to share their caregiving experiences\, connect with others g
 oing through the same journey and receive insight from an expert. There wi
 ll also be group discussions and educational presentations about relevant 
 caregiving topics.\n\nFor July the topic will be The Art of Activities and
  Engagement. How can you reconnect with someone with dementia? Keeping the
 ir current abilities in mind. Learn ways to keep your loved one engaged in
  personalized activities.\n\n\nPlease contact with the event contact below
  to RSVP.
DTSTART;TZID=America/New_York:20240711T150000
DTEND;TZID=America/New_York:20240711T160000
LOCATION:Great Falls Assisted Living\, 1121 Reston Ave\, Herndon\, VA 20170
  US
SUMMARY:Caregiver Support Group - Art of Activities and Engagement
END:VEVENT
END:VCALENDAR
