BEGIN:VCALENDAR
VERSION:2.0
PRODID:-//www.insightmcc.org//NONSGML kigkonsult.se iCalcreator 2.30.10//
CALSCALE:GREGORIAN
METHOD:PUBLISH
UID:e065e36e-5694-47c6-9aa3-a6d6cafa5ad6
X-WR-CALDESC:Join us for a discussion on changes that occur with age\, warn
 ing signs of a memory problem\, and what to do if someone you love is expe
 riencing symptoms of dementia or memory impairment.\n\nThis program is pre
 sented by the Insight Memory Care Team at the Wellness Center for Older Ad
 ults. Please contact the event contact listed below to RSVP.
X-WR-RELCALID:069873fa674b75ad9c2deb3354e2840a
X-WR-TIMEZONE:America/New_York
BEGIN:VTIMEZONE
TZID:America/New_York
BEGIN:STANDARD
TZNAME:EST
DTSTART:20231105T020000
TZOFFSETFROM:-0400
TZOFFSETTO:-0500
RDATE:20241103T020000
RDATE:20251102T020000
END:STANDARD
BEGIN:DAYLIGHT
TZNAME:EDT
DTSTART:20240310T020000
TZOFFSETFROM:-0500
TZOFFSETTO:-0400
RDATE:20250309T020000
END:DAYLIGHT
END:VTIMEZONE
BEGIN:VEVENT
UID:f3bb8afd-15df-4a3e-863a-980e531204ec
DTSTAMP:20260421T141958Z
DESCRIPTION:Join us for a discussion on changes that occur with age\, warni
 ng signs of a memory problem\, and what to do if someone you love is exper
 iencing symptoms of dementia or memory impairment.\n\nThis program is pres
 ented by the Insight Memory Care Team at the Wellness Center for Older Adu
 lts. Please contact the event contact listed below to RSVP.
DTSTART;TZID=America/New_York:20240711T130000
DTEND;TZID=America/New_York:20240711T140000
LOCATION:Wellness Center for Older Adults\, 4027B Olley Lane\, Fairfax\, AL
  22032 US
SUMMARY:Normal Aging vs. Dementia
END:VEVENT
END:VCALENDAR
