BEGIN:VCALENDAR
VERSION:2.0
PRODID:-//www.insightmcc.org//NONSGML kigkonsult.se iCalcreator 2.30.10//
CALSCALE:GREGORIAN
METHOD:PUBLISH
UID:a4f7fc64-8e21-49fe-abef-a898e3ad26e6
X-WR-CALDESC:Learn more about age-related changes in memory and learning\, 
 and practices to keep your brain sharp! Learn what to expect\, what’s “nor
 mal\,” and when it’s time to seek a doctor’s input.\n\nThis event is held 
 at Waltonwood at Ashburn and presented by the education team at Insight. P
 lease contact the event contact listed below to register.
X-WR-RELCALID:aff8cc501ecb56560458ce15fea25fc5
X-WR-TIMEZONE:America/New_York
BEGIN:VTIMEZONE
TZID:America/New_York
BEGIN:STANDARD
TZNAME:EST
DTSTART:20231105T020000
TZOFFSETFROM:-0400
TZOFFSETTO:-0500
RDATE:20241103T020000
RDATE:20251102T020000
END:STANDARD
BEGIN:DAYLIGHT
TZNAME:EDT
DTSTART:20240310T020000
TZOFFSETFROM:-0500
TZOFFSETTO:-0400
RDATE:20250309T020000
END:DAYLIGHT
END:VTIMEZONE
BEGIN:VEVENT
UID:e69c25e7-5d52-444d-8c97-f30d3d41e4ad
DTSTAMP:20260421T142131Z
DESCRIPTION:Learn more about age-related changes in memory and learning\, a
 nd practices to keep your brain sharp! Learn what to expect\, what’s “norm
 al\,” and when it’s time to seek a doctor’s input.\n\nThis event is held a
 t Waltonwood at Ashburn and presented by the education team at Insight. Pl
 ease contact the event contact listed below to register.
DTSTART;TZID=America/New_York:20240715T140000
DTEND;TZID=America/New_York:20240715T150000
LOCATION:Waltonwood at Ashburn\, 44141 Russell Branch Parkway\, Ashburn\, V
 A 20147 US
SUMMARY:Brain Health as You Age
END:VEVENT
END:VCALENDAR
