BEGIN:VCALENDAR
VERSION:2.0
PRODID:-//www.insightmcc.org//NONSGML kigkonsult.se iCalcreator 2.30.10//
CALSCALE:GREGORIAN
METHOD:PUBLISH
UID:f44f7efa-8d7c-45a6-aee9-ea60559e7eed
X-WR-CALDESC:A discussion on changes that occur with age\, warning signs of
  a memory problem\, and what to do if someone you love is experiencing sym
 ptoms.\n\nThis program is presented by the Insight Memory Care Team virtua
 lly in partnership with ServiceSource via the Virtual Center for Active Ad
 ults. Please register at the link below.
X-WR-RELCALID:e423393501195f62d0ab76e7788875cc
X-WR-TIMEZONE:America/New_York
BEGIN:VTIMEZONE
TZID:America/New_York
BEGIN:STANDARD
TZNAME:EST
DTSTART:20231105T020000
TZOFFSETFROM:-0400
TZOFFSETTO:-0500
RDATE:20241103T020000
RDATE:20251102T020000
END:STANDARD
BEGIN:DAYLIGHT
TZNAME:EDT
DTSTART:20240310T020000
TZOFFSETFROM:-0500
TZOFFSETTO:-0400
RDATE:20250309T020000
END:DAYLIGHT
END:VTIMEZONE
BEGIN:VEVENT
UID:75418096-535a-4fbf-8c69-30412d2d6462
DTSTAMP:20260421T141957Z
DESCRIPTION:A discussion on changes that occur with age\, warning signs of 
 a memory problem\, and what to do if someone you love is experiencing symp
 toms.\n\nThis program is presented by the Insight Memory Care Team virtual
 ly in partnership with ServiceSource via the Virtual Center for Active Adu
 lts. Please register at the link below.
DTSTART;TZID=America/New_York:20240716T130000
DTEND;TZID=America/New_York:20240716T140000
LOCATION:https://www.fairfaxcounty.gov/neighborhood-community-services/virt
 ual-center-active-adults
SUMMARY:Normal Aging vs. Dementia
END:VEVENT
END:VCALENDAR
