BEGIN:VCALENDAR
VERSION:2.0
PRODID:-//www.insightmcc.org//NONSGML kigkonsult.se iCalcreator 2.30.10//
CALSCALE:GREGORIAN
METHOD:PUBLISH
UID:99ea3f84-4dc0-42bc-a751-0a99cf6cdcae
X-WR-CALDESC:<h6>Celebrate With Us!</h6> \n\nInsight has provided 40 years 
 of respite care\, family support\, and resources to live well with dementi
 a. This year we're celebrating all we’ve done and all that’s to come - but
  most of all\, <strong>we want you to celebrate with us!</strong>\n\nJoin 
 us for a fun-filled afternoon celebrating with Insight friends new and old
 . We’ll be gathering at Insight-Fairfax on July 18th to look back on our j
 ourney and celebrate everyone who has helped shape where we are today.\n\n
 &nbsp\;\n<strong><a href='https://insightmemory.app.neoncrm.com/eventReg.j
 sp?event=1394&' target='_blank' class='button' rel='noreferrer noopener'>R
 SVP Now!</a></strong>
X-WR-RELCALID:aaab44b5034f50b28c637296966cc99e
X-WR-TIMEZONE:America/New_York
BEGIN:VTIMEZONE
TZID:America/New_York
BEGIN:STANDARD
TZNAME:EST
DTSTART:20231105T020000
TZOFFSETFROM:-0400
TZOFFSETTO:-0500
RDATE:20241103T020000
RDATE:20251102T020000
END:STANDARD
BEGIN:DAYLIGHT
TZNAME:EDT
DTSTART:20240310T020000
TZOFFSETFROM:-0500
TZOFFSETTO:-0400
RDATE:20250309T020000
END:DAYLIGHT
END:VTIMEZONE
BEGIN:VEVENT
UID:a295abcd-8248-4ab5-a615-6d7c602b37be
DTSTAMP:20260421T142014Z
DESCRIPTION:<h6>Celebrate With Us!</h6> \n\nInsight has provided 40 years o
 f respite care\, family support\, and resources to live well with dementia
 . This year we're celebrating all we’ve done and all that’s to come - but 
 most of all\, <strong>we want you to celebrate with us!</strong>\n\nJoin u
 s for a fun-filled afternoon celebrating with Insight friends new and old.
  We’ll be gathering at Insight-Fairfax on July 18th to look back on our jo
 urney and celebrate everyone who has helped shape where we are today.\n\n&
 nbsp\;\n<strong><a href='https://insightmemory.app.neoncrm.com/eventReg.js
 p?event=1394&' target='_blank' class='button' rel='noreferrer noopener'>RS
 VP Now!</a></strong>
DTSTART;TZID=America/New_York:20240718T160000
DTEND;TZID=America/New_York:20240718T180000
LOCATION:Insight Memory Care Center - Fairfax \, 3953 Pender Drive\, Suite 
 100\, Fairfax\, VA 22030 US
SUMMARY:40th Anniversary Celebration!
END:VEVENT
END:VCALENDAR
