BEGIN:VCALENDAR
VERSION:2.0
PRODID:-//www.insightmcc.org//NONSGML kigkonsult.se iCalcreator 2.30.10//
CALSCALE:GREGORIAN
METHOD:PUBLISH
UID:55b80792-4116-4d0e-97d5-e73ebe4b5f6f
X-WR-CALDESC:Insight Memory Care Center will offer free\, confidential memo
 ry screenings and educational materials to people with concerns about thei
 r memory or who want to check their memory now for future comparison.\n\nT
 he screenings will be held in Meeting Room A.
X-WR-RELCALID:0c83f9d4e742644b377e4234aa85e960
X-WR-TIMEZONE:America/New_York
BEGIN:VTIMEZONE
TZID:America/New_York
BEGIN:STANDARD
TZNAME:EST
DTSTART:20231105T020000
TZOFFSETFROM:-0400
TZOFFSETTO:-0500
RDATE:20241103T020000
RDATE:20251102T020000
END:STANDARD
BEGIN:DAYLIGHT
TZNAME:EDT
DTSTART:20240310T020000
TZOFFSETFROM:-0500
TZOFFSETTO:-0400
RDATE:20250309T020000
END:DAYLIGHT
END:VTIMEZONE
BEGIN:VEVENT
UID:152a06c1-4702-46f4-bb76-7de1b0d6a242
DTSTAMP:20260421T141947Z
DESCRIPTION:Insight Memory Care Center will offer free\, confidential memor
 y screenings and educational materials to people with concerns about their
  memory or who want to check their memory now for future comparison.\n\nTh
 e screenings will be held in Meeting Room A.
DTSTART;TZID=America/New_York:20240719T143000
DTEND;TZID=America/New_York:20240719T170000
LOCATION:Ashburn Library (Meeting Room A)\, 43316 Hay Road\, Ashburn\, VA 2
 0147 US
SUMMARY:Memory Screenings at Ashburn Library
END:VEVENT
END:VCALENDAR
