BEGIN:VCALENDAR
VERSION:2.0
PRODID:-//www.insightmcc.org//NONSGML kigkonsult.se iCalcreator 2.30.10//
CALSCALE:GREGORIAN
METHOD:PUBLISH
UID:e89d4af2-c1a6-4d2e-b93b-dd37a748344b
X-WR-CALDESC:Join us for a discussion about the importance of socialization
  when aging. Research has found that social support can play a significant
  role in overall health as people age. Spending time with friends and fami
 ly members can boost quality of life\, including both physical and mental 
 health.\n\nThis program is presented by the Insight Memory Care Team virtu
 ally in partnership with ServiceSource via the Virtual Center for Active A
 dults. Please register at the link below.
X-WR-RELCALID:02ceb9ddbd5e94c639055a839e492bd0
X-WR-TIMEZONE:America/New_York
BEGIN:VTIMEZONE
TZID:America/New_York
BEGIN:STANDARD
TZNAME:EST
DTSTART:20231105T020000
TZOFFSETFROM:-0400
TZOFFSETTO:-0500
RDATE:20241103T020000
RDATE:20251102T020000
END:STANDARD
BEGIN:DAYLIGHT
TZNAME:EDT
DTSTART:20240310T020000
TZOFFSETFROM:-0500
TZOFFSETTO:-0400
RDATE:20250309T020000
END:DAYLIGHT
END:VTIMEZONE
BEGIN:VEVENT
UID:7e3c0081-f3ed-4a0c-880c-c35f66aaa3e0
DTSTAMP:20260421T142105Z
DESCRIPTION:Join us for a discussion about the importance of socialization 
 when aging. Research has found that social support can play a significant 
 role in overall health as people age. Spending time with friends and famil
 y members can boost quality of life\, including both physical and mental h
 ealth.\n\nThis program is presented by the Insight Memory Care Team virtua
 lly in partnership with ServiceSource via the Virtual Center for Active Ad
 ults. Please register at the link below.
DTSTART;TZID=America/New_York:20240730T130000
DTEND;TZID=America/New_York:20240730T140000
LOCATION:https://www.fairfaxcounty.gov/neighborhood-community-services/virt
 ual-center-active-adults
SUMMARY:Importance of Socialization when Aging
END:VEVENT
END:VCALENDAR
