BEGIN:VCALENDAR
VERSION:2.0
PRODID:-//www.insightmcc.org//NONSGML kigkonsult.se iCalcreator 2.30.10//
CALSCALE:GREGORIAN
METHOD:PUBLISH
UID:10b3ce52-2ea9-4309-9179-ed8794278fef
X-WR-CALDESC:There are so many choices as we navigate our journey. no two a
 re alike. Through transparent conversation\, education and support\, we ar
 e empowered to 'bridge the gap' from questions to solutions. Allowing us t
 o advocate for ourselves and loved ones. Meet Delores Clearfield\, Directo
 r of Continuum of Care & Kathryn Prince\, Physical Therapist with Fox Reha
 bilitation for our 'Bridging the Gap' Solutions.\n\nWe will also Join Meli
 ssa J Long\, Director of Education and Support with Insight Memory Care to
  learn more about age-related changes in memory and learning\, and practic
 es to keep your brain sharp! Learn what to expect\, what’s “normal\,” and 
 when it’s time to seek a doctor’s input.
X-WR-RELCALID:d805a8ea85ae335baab1cd34e36e3189
X-WR-TIMEZONE:America/New_York
BEGIN:VTIMEZONE
TZID:America/New_York
BEGIN:STANDARD
TZNAME:EST
DTSTART:20231105T020000
TZOFFSETFROM:-0400
TZOFFSETTO:-0500
RDATE:20241103T020000
RDATE:20251102T020000
END:STANDARD
BEGIN:DAYLIGHT
TZNAME:EDT
DTSTART:20240310T020000
TZOFFSETFROM:-0500
TZOFFSETTO:-0400
RDATE:20250309T020000
END:DAYLIGHT
END:VTIMEZONE
BEGIN:VEVENT
UID:16eb3d18-ceb5-417f-a973-0b2ac0586bd7
DTSTAMP:20260421T143453Z
DESCRIPTION:There are so many choices as we navigate our journey. no two ar
 e alike. Through transparent conversation\, education and support\, we are
  empowered to 'bridge the gap' from questions to solutions. Allowing us to
  advocate for ourselves and loved ones. Meet Delores Clearfield\, Director
  of Continuum of Care & Kathryn Prince\, Physical Therapist with Fox Rehab
 ilitation for our 'Bridging the Gap' Solutions.\n\nWe will also Join Melis
 sa J Long\, Director of Education and Support with Insight Memory Care to 
 learn more about age-related changes in memory and learning\, and practice
 s to keep your brain sharp! Learn what to expect\, what’s “normal\,” and w
 hen it’s time to seek a doctor’s input.
DTSTART;TZID=America/New_York:20240731T130000
DTEND;TZID=America/New_York:20240731T140000
LOCATION:Arbor Terrace Herndon\, 1100 Dranesville Road\, Herndon\, VA 20170
  US
SUMMARY:Bridging the Gap and Brain Health as You Age
END:VEVENT
END:VCALENDAR
