BEGIN:VCALENDAR
VERSION:2.0
PRODID:-//www.insightmcc.org//NONSGML kigkonsult.se iCalcreator 2.30.10//
CALSCALE:GREGORIAN
METHOD:PUBLISH
UID:b84a0038-ed18-4f21-8392-8c37d1701bac
X-WR-CALDESC:Lewy body dementia (LBD) is likely the most common type of dem
 entia you have not heard about. It is the second most common cause of prog
 ressive dementia after Alzheimer's disease (AD)\, but varies greatly from 
 AD in many ways. The management of LBD is complex\, and is best addressed 
 by a team of medical and Allied health professionals. Join us to learn wha
 t makes LBD so unique\, misunderstood\, and challenging to diagnose and tr
 eat.\n\n\nThis class will be held both virtually and in-person in Fairfax.
  Please select your attendance type when you register.\n\nThe in-person se
 ssion will be held in the Mazawey Education and Support Center\, 3955 Pend
 er Drive\, Suite 100\, Fairfax\, VA 22030.\n\nVirtual attendees will recei
 ve Zoom information prior to the class.\n\nThis program is a part of our m
 onthly Care Partner Training series. All sessions are FREE\, and held the 
 second Wednesday of each month from 1:00 to 2:30 pm.\n\n\n&nbsp\;\n<strong
 ><a href='https://insightmemory.app.neoncrm.com/eventReg.jsp?event=1509&' 
 class='button'>Sign Me Up - In Person</a></strong>\n\n<strong><a href='htt
 ps://insightmemory.app.neoncrm.com/eventReg.jsp?event=1504&' class='button
 '>Sign Me Up - Virtual</a></strong>\n\n\n<b>Presenter</b>\n<i>Julia Wood M
 OT\, OTR/L\, Director of Professional and Community Education - Lewy Body 
 Dementia Association</i>\nJulia is an occupational therapist who specializ
 es in the treatment of individuals with Parkinson’s Disease and neurologic
 al movement disorders. She is the Director of Professional and Community E
 ducation for the Lewy Body Dementia Association and contracts with the Uni
 versity of Pennsylvania’s Parkinson’s Disease and Movement Disorders Cente
 r of Excellence to develop community engagement programming. Julia serves 
 as faculty for the Parkinson Foundation’s Team Training for Parkinson prog
 ram and is certification and training faculty for the LSVT BIG® program. S
 he serves on the Parkinson Foundation Rehabilitation Medicine Task Force a
 nd on the World Parkinson Congress Comprehensive Care Subcommittee for Bar
 celona 2023.\n
X-WR-RELCALID:0849797921afd696e175166f8c4b42d3
X-WR-TIMEZONE:America/New_York
BEGIN:VTIMEZONE
TZID:America/New_York
BEGIN:STANDARD
TZNAME:EST
DTSTART:20231105T020000
TZOFFSETFROM:-0400
TZOFFSETTO:-0500
RDATE:20241103T020000
RDATE:20251102T020000
END:STANDARD
BEGIN:DAYLIGHT
TZNAME:EDT
DTSTART:20240310T020000
TZOFFSETFROM:-0500
TZOFFSETTO:-0400
RDATE:20250309T020000
END:DAYLIGHT
END:VTIMEZONE
BEGIN:VEVENT
UID:5407fe51-3dac-4a15-be6a-0c922c00f355
DTSTAMP:20260421T155031Z
DESCRIPTION:Lewy body dementia (LBD) is likely the most common type of deme
 ntia you have not heard about. It is the second most common cause of progr
 essive dementia after Alzheimer's disease (AD)\, but varies greatly from A
 D in many ways. The management of LBD is complex\, and is best addressed b
 y a team of medical and Allied health professionals. Join us to learn what
  makes LBD so unique\, misunderstood\, and challenging to diagnose and tre
 at.\n\n\nThis class will be held both virtually and in-person in Fairfax. 
 Please select your attendance type when you register.\n\nThe in-person ses
 sion will be held in the Mazawey Education and Support Center\, 3955 Pende
 r Drive\, Suite 100\, Fairfax\, VA 22030.\n\nVirtual attendees will receiv
 e Zoom information prior to the class.\n\nThis program is a part of our mo
 nthly Care Partner Training series. All sessions are FREE\, and held the s
 econd Wednesday of each month from 1:00 to 2:30 pm.\n\n\n&nbsp\;\n<strong>
 <a href='https://insightmemory.app.neoncrm.com/eventReg.jsp?event=1509&' c
 lass='button'>Sign Me Up - In Person</a></strong>\n\n<strong><a href='http
 s://insightmemory.app.neoncrm.com/eventReg.jsp?event=1504&' class='button'
 >Sign Me Up - Virtual</a></strong>\n\n\n<b>Presenter</b>\n<i>Julia Wood MO
 T\, OTR/L\, Director of Professional and Community Education - Lewy Body D
 ementia Association</i>\nJulia is an occupational therapist who specialize
 s in the treatment of individuals with Parkinson’s Disease and neurologica
 l movement disorders. She is the Director of Professional and Community Ed
 ucation for the Lewy Body Dementia Association and contracts with the Univ
 ersity of Pennsylvania’s Parkinson’s Disease and Movement Disorders Center
  of Excellence to develop community engagement programming. Julia serves a
 s faculty for the Parkinson Foundation’s Team Training for Parkinson progr
 am and is certification and training faculty for the LSVT BIG® program. Sh
 e serves on the Parkinson Foundation Rehabilitation Medicine Task Force an
 d on the World Parkinson Congress Comprehensive Care Subcommittee for Barc
 elona 2023.\n
DTSTART;TZID=America/New_York:20240814T130000
DTEND;TZID=America/New_York:20240814T143000
LOCATION:Hybrid! Virtual and in-person at Insight Memory Care Center - Fair
 fax
SUMMARY:Managing Lewy Body Dementia
END:VEVENT
END:VCALENDAR
