BEGIN:VCALENDAR
VERSION:2.0
PRODID:-//www.insightmcc.org//NONSGML kigkonsult.se iCalcreator 2.30.10//
CALSCALE:GREGORIAN
METHOD:PUBLISH
UID:84effcd9-5544-46d7-a8f5-def7781d4b10
X-WR-CALDESC:The financial costs of long-term care and long-term caregiving
  are enormous. Explore some of your options for this important aspect of c
 aregiving.\n\nPlease register and you will receive Zoom information prior 
 to the class.\n\n<b> Presenter </b>\n<i>Arvette M. Reid\, Client Services 
 Director\, SEIA </i>\nArvette has worked as a Sales and Marketing professi
 onal for more than 20 years. She spent over fifteen years in the Senior Ho
 using and Healthcare industry\, where her tenure spanned the range of Inde
 pendent Living\, Assisted Living\, Nursing Care\, Dementia and Hospice Ser
 vices. This spectrum of experiences now uniquely informs her current role 
 as Client Services Director with SEIA\, a Forbes 100 wealth management fir
 m\, where she is working for the Thomas West practice and breaking new gro
 und with the Lifecare Affordability Plan®\, a pioneer service that bridges
  the gap between senior healthcare services and financial planning.  Arvet
 te brings the financial and healthcare worlds together\, making a powerful
  impact in serving families holistically.\n\n\n \n&nbsp\;\n<strong><a href
 ='https://insightmemory.app.neoncrm.com/eventReg.jsp?event=1524&' target='
 _blank' class='button' rel='noreferrer noopener'>Sign Me Up!</a></strong>
X-WR-RELCALID:49b1e00dcde6346af65e2676d820fc6b
X-WR-TIMEZONE:America/New_York
BEGIN:VTIMEZONE
TZID:America/New_York
BEGIN:STANDARD
TZNAME:EST
DTSTART:20231105T020000
TZOFFSETFROM:-0400
TZOFFSETTO:-0500
RDATE:20241103T020000
RDATE:20251102T020000
END:STANDARD
BEGIN:DAYLIGHT
TZNAME:EDT
DTSTART:20240310T020000
TZOFFSETFROM:-0500
TZOFFSETTO:-0400
RDATE:20250309T020000
END:DAYLIGHT
END:VTIMEZONE
BEGIN:VEVENT
UID:6b273ad2-98df-4d9c-87e7-26f4c0e1372f
DTSTAMP:20260421T154934Z
DESCRIPTION:The financial costs of long-term care and long-term caregiving 
 are enormous. Explore some of your options for this important aspect of ca
 regiving.\n\nPlease register and you will receive Zoom information prior t
 o the class.\n\n<b> Presenter </b>\n<i>Arvette M. Reid\, Client Services D
 irector\, SEIA </i>\nArvette has worked as a Sales and Marketing professio
 nal for more than 20 years. She spent over fifteen years in the Senior Hou
 sing and Healthcare industry\, where her tenure spanned the range of Indep
 endent Living\, Assisted Living\, Nursing Care\, Dementia and Hospice Serv
 ices. This spectrum of experiences now uniquely informs her current role a
 s Client Services Director with SEIA\, a Forbes 100 wealth management firm
 \, where she is working for the Thomas West practice and breaking new grou
 nd with the Lifecare Affordability Plan®\, a pioneer service that bridges 
 the gap between senior healthcare services and financial planning.  Arvett
 e brings the financial and healthcare worlds together\, making a powerful 
 impact in serving families holistically.\n\n\n \n&nbsp\;\n<strong><a href=
 'https://insightmemory.app.neoncrm.com/eventReg.jsp?event=1524&' target='_
 blank' class='button' rel='noreferrer noopener'>Sign Me Up!</a></strong>
DTSTART;TZID=America/New_York:20240822T190000
DTEND;TZID=America/New_York:20240822T200000
LOCATION:Virtual! Zoom link provided upon registration.
SUMMARY:How Will We Pay for Care: Financial Considerations - Virtual Presen
 tation
END:VEVENT
END:VCALENDAR
