BEGIN:VCALENDAR
VERSION:2.0
PRODID:-//www.insightmcc.org//NONSGML kigkonsult.se iCalcreator 2.30.10//
CALSCALE:GREGORIAN
METHOD:PUBLISH
UID:aad837a1-4ae8-44d8-8426-e07406827585
X-WR-CALDESC:Meet Me: Community Outings are free\, and give families living
  with mild cognitive impairment (MCI) or early stage memory loss an opport
 unity to connect and stay engaged in the community\, in a safe and support
 ive way. Outings are designed for both the diagnosed individual and a care
  partner or friend to participate together\, and meet new friends in the p
 rocess!\n\nTopgolf is a high-tech golf game that everyone can play and enj
 oy\, even if you're getting more hole-in-nones than hole-in-ones! Come and
  enjoy the climate-controlled and ADA-accessible hitting bays and some sha
 reable bites to eat! Golf clubs are complimentary to use during game play\
 , so no need to bring your own (unless you want to)!\n\nMany thanks to I'm
  Still Here for providing funding for this program so that families can pa
 rticipate for free!\n\n&nbsp\;\n<strong><a href='https://insightmemory.app
 .neoncrm.com/np/clients/insightmemory/eventRegistration.jsp?event=1859&' t
 arget='_blank' class='button' rel='noreferrer noopener'>Sign Me Up!</a></s
 trong>\n
X-WR-RELCALID:0e5303a89e87c9c6fb8641ef8e29ee6b
X-WR-TIMEZONE:America/New_York
BEGIN:VTIMEZONE
TZID:America/New_York
BEGIN:STANDARD
TZNAME:EST
DTSTART:20231105T020000
TZOFFSETFROM:-0400
TZOFFSETTO:-0500
RDATE:20241103T020000
RDATE:20251102T020000
END:STANDARD
BEGIN:DAYLIGHT
TZNAME:EDT
DTSTART:20240310T020000
TZOFFSETFROM:-0500
TZOFFSETTO:-0400
RDATE:20250309T020000
END:DAYLIGHT
END:VTIMEZONE
BEGIN:VEVENT
UID:a59f3144-ed50-48f0-a382-b253095f42c2
DTSTAMP:20260421T155138Z
DESCRIPTION:Meet Me: Community Outings are free\, and give families living 
 with mild cognitive impairment (MCI) or early stage memory loss an opportu
 nity to connect and stay engaged in the community\, in a safe and supporti
 ve way. Outings are designed for both the diagnosed individual and a care 
 partner or friend to participate together\, and meet new friends in the pr
 ocess!\n\nTopgolf is a high-tech golf game that everyone can play and enjo
 y\, even if you're getting more hole-in-nones than hole-in-ones! Come and 
 enjoy the climate-controlled and ADA-accessible hitting bays and some shar
 eable bites to eat! Golf clubs are complimentary to use during game play\,
  so no need to bring your own (unless you want to)!\n\nMany thanks to I'm 
 Still Here for providing funding for this program so that families can par
 ticipate for free!\n\n&nbsp\;\n<strong><a href='https://insightmemory.app.
 neoncrm.com/np/clients/insightmemory/eventRegistration.jsp?event=1859&' ta
 rget='_blank' class='button' rel='noreferrer noopener'>Sign Me Up!</a></st
 rong>\n
DTSTART;TZID=America/New_York:20240822T103000
DTEND;TZID=America/New_York:20240822T130000
LOCATION:Topgolf Loudoun\, 20356 Commonwealth Center Dr\, Ashburn\, VA 2014
 7 US
SUMMARY:Meet Me: At Topgolf Loudoun
END:VEVENT
END:VCALENDAR
