BEGIN:VCALENDAR
VERSION:2.0
PRODID:-//www.insightmcc.org//NONSGML kigkonsult.se iCalcreator 2.30.10//
CALSCALE:GREGORIAN
METHOD:PUBLISH
UID:25ed897d-88bd-414a-b866-585dfdc8d53f
X-WR-CALDESC:Dementia Capable Care (DCC) is an evidence-based dementia and 
 behavior training program designed for health care workers that makes a su
 stainable impact.\n\nEarners can apply specialized approaches using Dement
 ia Care Specialists at Crisis Prevention Institute’s (CPI) Dementia Capabl
 e Care Model to: \n(a) optimize function\, safety\, and quality of life th
 rough person-centered and cognitively supportive approaches using Allen Co
 gnitive Levels and Model\n(b) apply CPI’s Crisis Development Model℠ to pre
 vent and de-escalate distress behaviors and\n(c) support families. \n\nEar
 ners of this designation are leaders in a dementia capable workforce and a
 dvocates of a Dementia Capable Society.\n\nCost is $200 per person. \n\n<b
 >This course is a hybrid format. Learners will complete a 4 hour online cl
 ass prior to the in person class. After you complete this registration you
  will receive an email from crisisprevention.com to start the online class
 .</b>\n\nIn person portion details: August 29\, 2024 9:00am - 1:00pm at In
 sight Memory Care Center - Sterling\, 45945 Center Oak Plaza\, Suite 190\,
  Sterling\, VA 20166\n\n\n&nbsp\;\n<strong><a href='https://insightmemory.
 app.neoncrm.com/np/clients/insightmemory/eventRegistration.jsp?event=1794&
 ' target='_blank' class='button' rel='noreferrer noopener'>Sign Me Up!</a>
 </strong>
X-WR-RELCALID:b1a59268627a614be63d54da278be8a7
X-WR-TIMEZONE:America/New_York
BEGIN:VTIMEZONE
TZID:America/New_York
BEGIN:STANDARD
TZNAME:EST
DTSTART:20231105T020000
TZOFFSETFROM:-0400
TZOFFSETTO:-0500
RDATE:20241103T020000
RDATE:20251102T020000
END:STANDARD
BEGIN:DAYLIGHT
TZNAME:EDT
DTSTART:20240310T020000
TZOFFSETFROM:-0500
TZOFFSETTO:-0400
RDATE:20250309T020000
END:DAYLIGHT
END:VTIMEZONE
BEGIN:VEVENT
UID:9e9f58b5-e376-4818-91c7-f199cc8ea96b
DTSTAMP:20260421T154831Z
DESCRIPTION:Dementia Capable Care (DCC) is an evidence-based dementia and b
 ehavior training program designed for health care workers that makes a sus
 tainable impact.\n\nEarners can apply specialized approaches using Dementi
 a Care Specialists at Crisis Prevention Institute’s (CPI) Dementia Capable
  Care Model to: \n(a) optimize function\, safety\, and quality of life thr
 ough person-centered and cognitively supportive approaches using Allen Cog
 nitive Levels and Model\n(b) apply CPI’s Crisis Development Model℠ to prev
 ent and de-escalate distress behaviors and\n(c) support families. \n\nEarn
 ers of this designation are leaders in a dementia capable workforce and ad
 vocates of a Dementia Capable Society.\n\nCost is $200 per person. \n\n<b>
 This course is a hybrid format. Learners will complete a 4 hour online cla
 ss prior to the in person class. After you complete this registration you 
 will receive an email from crisisprevention.com to start the online class.
 </b>\n\nIn person portion details: August 29\, 2024 9:00am - 1:00pm at Ins
 ight Memory Care Center - Sterling\, 45945 Center Oak Plaza\, Suite 190\, 
 Sterling\, VA 20166\n\n\n&nbsp\;\n<strong><a href='https://insightmemory.a
 pp.neoncrm.com/np/clients/insightmemory/eventRegistration.jsp?event=1794&'
  target='_blank' class='button' rel='noreferrer noopener'>Sign Me Up!</a><
 /strong>
DTSTART;TZID=America/New_York:20240829T090000
DTEND;TZID=America/New_York:20240829T130000
LOCATION:Insight Memory Care Center - Sterling\, 45945 Center Oak Plaza\, S
 uite 190\, Sterling\, VA 20166 US
SUMMARY:Dementia Capable Care Specialist (DCC) Training
END:VEVENT
END:VCALENDAR
