BEGIN:VCALENDAR
VERSION:2.0
PRODID:-//www.insightmcc.org//NONSGML kigkonsult.se iCalcreator 2.30.10//
CALSCALE:GREGORIAN
METHOD:PUBLISH
UID:71111bcf-1653-4a4f-970b-04c4df70aeab
X-WR-CALDESC:Insight will be closed for Labor Day. Enjoy your holiday!
X-WR-RELCALID:26a9e0cf5c40bfd070199b274371d476
X-WR-TIMEZONE:America/New_York
BEGIN:VTIMEZONE
TZID:America/New_York
BEGIN:STANDARD
TZNAME:EST
DTSTART:20231105T020000
TZOFFSETFROM:-0400
TZOFFSETTO:-0500
RDATE:20241103T020000
RDATE:20251102T020000
END:STANDARD
BEGIN:DAYLIGHT
TZNAME:EDT
DTSTART:20240310T020000
TZOFFSETFROM:-0500
TZOFFSETTO:-0400
RDATE:20250309T020000
END:DAYLIGHT
END:VTIMEZONE
BEGIN:VEVENT
UID:8c80f7a6-9b80-4f8b-bafb-80bf2865d322
DTSTAMP:20260421T171009Z
DESCRIPTION:Insight will be closed for Labor Day. Enjoy your holiday!
DTSTART;TZID=America/New_York:20240902T060000
DTEND;TZID=America/New_York:20240902T060001
LOCATION:
SUMMARY:Insight Closed
END:VEVENT
END:VCALENDAR
