BEGIN:VCALENDAR
VERSION:2.0
PRODID:-//www.insightmcc.org//NONSGML kigkonsult.se iCalcreator 2.30.10//
CALSCALE:GREGORIAN
METHOD:PUBLISH
UID:2506da3e-782c-44de-8a7c-06f8620033fc
X-WR-CALDESC:Caregiving for an aging loved one is one of the most generous 
 acts of love. Whether you are a family member\, friend\, neighbor\, or sup
 port partner\, it’s an opportunity to learn the value of being present in 
 the moment and to share the joy of togetherness\, no matter how long it la
 sts. It’s also a demanding commitment that can be unpredictable and lonely
 \, but we’re here for you and your loved one.\n\nJoin Kensington for an en
 lightening presentation with our Caregiver Coaches & Experts: Tami Anastas
 ia\, Dementia Caregiver Support Counselor\; Lisa Bricker\, Elder Care Cons
 ultant\; Melissa Long\, Director of Education and Support at Insight Memor
 y Care Center\; and Monica Moore\, Community Health Program Manager for th
 e Mary S. Easton Center for Alzheimer’s Research & Care at UCLA. Additiona
 lly\, hear real-life testimonials with experienced male caregivers. \n\nLe
 arn about the importance of recognizing and acknowledging the vital role m
 ale caregivers play and let us provide you with a platform to voice your n
 eeds and experiences. It’s an opportunity to celebrate your contributions\
 , address the challenges you face\, and enhance your well-being through co
 mmunity and professional support.\n\nThere will be an On-Site Watch Party 
 and Meet & Greet at The Kensington Falls Church.\n\nVirtual Presentation f
 rom 6pm – 7pm\n\nMeet & Greet with Melissa Long from 7pm – 7:30pm\n\n\n<b>
  Please RSVP at the link below. </b>\n
X-WR-RELCALID:b9276f51d038daf92df1ce2bac9746d2
X-WR-TIMEZONE:America/New_York
BEGIN:VTIMEZONE
TZID:America/New_York
BEGIN:STANDARD
TZNAME:EST
DTSTART:20231105T020000
TZOFFSETFROM:-0400
TZOFFSETTO:-0500
RDATE:20241103T020000
RDATE:20251102T020000
END:STANDARD
BEGIN:DAYLIGHT
TZNAME:EDT
DTSTART:20240310T020000
TZOFFSETFROM:-0500
TZOFFSETTO:-0400
RDATE:20250309T020000
END:DAYLIGHT
END:VTIMEZONE
BEGIN:VEVENT
UID:1a1c08fd-5b85-4c4f-91fa-793930b062e9
DTSTAMP:20260421T171531Z
DESCRIPTION:Caregiving for an aging loved one is one of the most generous a
 cts of love. Whether you are a family member\, friend\, neighbor\, or supp
 ort partner\, it’s an opportunity to learn the value of being present in t
 he moment and to share the joy of togetherness\, no matter how long it las
 ts. It’s also a demanding commitment that can be unpredictable and lonely\
 , but we’re here for you and your loved one.\n\nJoin Kensington for an enl
 ightening presentation with our Caregiver Coaches & Experts: Tami Anastasi
 a\, Dementia Caregiver Support Counselor\; Lisa Bricker\, Elder Care Consu
 ltant\; Melissa Long\, Director of Education and Support at Insight Memory
  Care Center\; and Monica Moore\, Community Health Program Manager for the
  Mary S. Easton Center for Alzheimer’s Research & Care at UCLA. Additional
 ly\, hear real-life testimonials with experienced male caregivers. \n\nLea
 rn about the importance of recognizing and acknowledging the vital role ma
 le caregivers play and let us provide you with a platform to voice your ne
 eds and experiences. It’s an opportunity to celebrate your contributions\,
  address the challenges you face\, and enhance your well-being through com
 munity and professional support.\n\nThere will be an On-Site Watch Party a
 nd Meet & Greet at The Kensington Falls Church.\n\nVirtual Presentation fr
 om 6pm – 7pm\n\nMeet & Greet with Melissa Long from 7pm – 7:30pm\n\n\n<b> 
 Please RSVP at the link below. </b>\n
DTSTART;TZID=America/New_York:20240904T180000
DTEND;TZID=America/New_York:20240904T193000
LOCATION:The Kensington Falls Church\, 700 West Broad Street\, Falls Church
 \, VA 22046 US
SUMMARY:Care for the Male Caregiver
END:VEVENT
END:VCALENDAR
