BEGIN:VCALENDAR
VERSION:2.0
PRODID:-//www.insightmcc.org//NONSGML kigkonsult.se iCalcreator 2.30.10//
CALSCALE:GREGORIAN
METHOD:PUBLISH
UID:62ec7d8c-6f58-4548-ac83-8a80d419d465
X-WR-CALDESC:Medicare 2025 – Do you know all the pieces regarding enrollmen
 t? \n\nAre you enrolling in Medicare for the first time or doing some rese
 arch on the best options for you for 2025? Medicare open enrollment for 20
 25 is coming soon. The annual open enrollment period runs from October 15t
 h to December 7th.\n\nThis virtual presentation with Kevin Chaikin\, Licen
 sed Insurance Agent with Medicare Portal\, answers the top five frequently
  asked questions by Medicare beneficiaries\, discusses the basics of Medic
 are\, and identifies key milestones and decision points that are critical 
 to get the most out of Medicare and supplemental insurance programs.\n\n\n
 &nbsp\;\n<strong><a href='https://insightmemory.app.neoncrm.com/eventReg.j
 sp?event=1489&' class='button'>Sign Me Up!</a></strong>
X-WR-RELCALID:498e83249d8fd19e0718d836ead98ac4
X-WR-TIMEZONE:America/New_York
BEGIN:VTIMEZONE
TZID:America/New_York
BEGIN:STANDARD
TZNAME:EST
DTSTART:20231105T020000
TZOFFSETFROM:-0400
TZOFFSETTO:-0500
RDATE:20241103T020000
RDATE:20251102T020000
END:STANDARD
BEGIN:DAYLIGHT
TZNAME:EDT
DTSTART:20240310T020000
TZOFFSETFROM:-0500
TZOFFSETTO:-0400
RDATE:20250309T020000
END:DAYLIGHT
END:VTIMEZONE
BEGIN:VEVENT
UID:1a1b6642-bc77-4606-a5b5-3c6ef27f7d00
DTSTAMP:20260421T171227Z
DESCRIPTION:Medicare 2025 – Do you know all the pieces regarding enrollment
 ? \n\nAre you enrolling in Medicare for the first time or doing some resea
 rch on the best options for you for 2025? Medicare open enrollment for 202
 5 is coming soon. The annual open enrollment period runs from October 15th
  to December 7th.\n\nThis virtual presentation with Kevin Chaikin\, Licens
 ed Insurance Agent with Medicare Portal\, answers the top five frequently 
 asked questions by Medicare beneficiaries\, discusses the basics of Medica
 re\, and identifies key milestones and decision points that are critical t
 o get the most out of Medicare and supplemental insurance programs.\n\n\n&
 nbsp\;\n<strong><a href='https://insightmemory.app.neoncrm.com/eventReg.js
 p?event=1489&' class='button'>Sign Me Up!</a></strong>
DTSTART;TZID=America/New_York:20240905T160000
DTEND;TZID=America/New_York:20240905T170000
LOCATION:Virtual! Zoom link provided upon registration.
SUMMARY:Medicare 2025 - Ready to Enroll? Virtual Presentation
END:VEVENT
END:VCALENDAR
