BEGIN:VCALENDAR
VERSION:2.0
PRODID:-//www.insightmcc.org//NONSGML kigkonsult.se iCalcreator 2.30.10//
CALSCALE:GREGORIAN
METHOD:PUBLISH
UID:04035712-9162-4854-a472-ab8d231e4ff0
X-WR-CALDESC:Join us for a discussion about the importance of socialization
  when aging. Research has found that social support can play a significant
  role in overall health as people age. Spending time with friends and fami
 ly members can boost quality of life\, including both physical and mental 
 health.\n\nThis program is presented by the Insight Memory Care Team at th
 e Arlington Mill Community Center. Please register at the link below.
X-WR-RELCALID:2e9269b01939d1cc85047655a3938fa5
X-WR-TIMEZONE:America/New_York
BEGIN:VTIMEZONE
TZID:America/New_York
BEGIN:STANDARD
TZNAME:EST
DTSTART:20231105T020000
TZOFFSETFROM:-0400
TZOFFSETTO:-0500
RDATE:20241103T020000
RDATE:20251102T020000
END:STANDARD
BEGIN:DAYLIGHT
TZNAME:EDT
DTSTART:20240310T020000
TZOFFSETFROM:-0500
TZOFFSETTO:-0400
RDATE:20250309T020000
RDATE:20260308T020000
END:DAYLIGHT
END:VTIMEZONE
BEGIN:VEVENT
UID:1ffef3ab-c846-4370-b4d5-6901990c4598
DTSTAMP:20260421T171152Z
DESCRIPTION:Join us for a discussion about the importance of socialization 
 when aging. Research has found that social support can play a significant 
 role in overall health as people age. Spending time with friends and famil
 y members can boost quality of life\, including both physical and mental h
 ealth.\n\nThis program is presented by the Insight Memory Care Team at the
  Arlington Mill Community Center. Please register at the link below.
DTSTART;TZID=America/New_York:20240911T180000
DTEND;TZID=America/New_York:20240911T190000
LOCATION:Arlington Mill Senior Center\, 909 S. Dinwiddie St\, Arlington\, V
 A 22204 US
SUMMARY:Importance of Socialization When Aging
END:VEVENT
END:VCALENDAR
