BEGIN:VCALENDAR
VERSION:2.0
PRODID:-//www.insightmcc.org//NONSGML kigkonsult.se iCalcreator 2.30.10//
CALSCALE:GREGORIAN
METHOD:PUBLISH
UID:33cb65fb-3b18-459a-aeec-be73a5e8741b
X-WR-CALDESC:Frontotemporal dementia or FTD is a progressive disorder of th
 e brain. It can can affect behavior\, language skills and movement. Primar
 y Progressive Aphasia (PPA)is one of the subtypes of FTD. PPA is character
 ized predominantly by the gradual loss of the ability to speak\, read\, wr
 ite\, and understand what others are saying. Learn more about PPA\, includ
 ing the signs and symptoms\, how it differs from other dementias\, and the
  resources available locally and through AFTD.\n\nThis class will be held 
 both virtually and in-person in Fairfax. Please select your attendance typ
 e when you register.\n\nThe in-person session will be held in the Mazawey 
 Education and Support Center\, 3955 Pender Drive\, Suite 100\, Fairfax\, V
 A 22030.\n\nVirtual attendees will receive Zoom information prior to the c
 lass.\n\nThis program is a part of our monthly Care Partner Training serie
 s. All sessions are FREE\, and held the second Wednesday of each month fro
 m 1:00 to 2:30 pm.\n\n&nbsp\;\n<strong><a href='https://insightmemory.app.
 neoncrm.com/eventReg.jsp?event=1514&' class='button'>Sign Me Up - In Perso
 n</a></strong>\n\n<strong><a href='https://insightmemory.app.neoncrm.com/e
 ventReg.jsp?event=1519&' class='button'>Sign Me Up - Virtual</a></strong>
 \n\n\n\n<b> Presenter </b>\n<i> William Reiter\, MA\, Education Program Ma
 nager\, The Association for Frontotemporal Degeneration</i>\n
X-WR-RELCALID:c9cc1aea2bf0fc1e6787f9dd9d51fb4b
X-WR-TIMEZONE:America/New_York
BEGIN:VTIMEZONE
TZID:America/New_York
BEGIN:STANDARD
TZNAME:EST
DTSTART:20231105T020000
TZOFFSETFROM:-0400
TZOFFSETTO:-0500
RDATE:20241103T020000
RDATE:20251102T020000
END:STANDARD
BEGIN:DAYLIGHT
TZNAME:EDT
DTSTART:20240310T020000
TZOFFSETFROM:-0500
TZOFFSETTO:-0400
RDATE:20250309T020000
RDATE:20260308T020000
END:DAYLIGHT
END:VTIMEZONE
BEGIN:VEVENT
UID:b0bc873a-a36a-4352-a257-f1366d7f5176
DTSTAMP:20260421T171454Z
DESCRIPTION:Frontotemporal dementia or FTD is a progressive disorder of the
  brain. It can can affect behavior\, language skills and movement. Primary
  Progressive Aphasia (PPA)is one of the subtypes of FTD. PPA is characteri
 zed predominantly by the gradual loss of the ability to speak\, read\, wri
 te\, and understand what others are saying. Learn more about PPA\, includi
 ng the signs and symptoms\, how it differs from other dementias\, and the 
 resources available locally and through AFTD.\n\nThis class will be held b
 oth virtually and in-person in Fairfax. Please select your attendance type
  when you register.\n\nThe in-person session will be held in the Mazawey E
 ducation and Support Center\, 3955 Pender Drive\, Suite 100\, Fairfax\, VA
  22030.\n\nVirtual attendees will receive Zoom information prior to the cl
 ass.\n\nThis program is a part of our monthly Care Partner Training series
 . All sessions are FREE\, and held the second Wednesday of each month from
  1:00 to 2:30 pm.\n\n&nbsp\;\n<strong><a href='https://insightmemory.app.n
 eoncrm.com/eventReg.jsp?event=1514&' class='button'>Sign Me Up - In Person
 </a></strong>\n\n<strong><a href='https://insightmemory.app.neoncrm.com/ev
 entReg.jsp?event=1519&' class='button'>Sign Me Up - Virtual</a></strong>\n
 \n\n\n<b> Presenter </b>\n<i> William Reiter\, MA\, Education Program Mana
 ger\, The Association for Frontotemporal Degeneration</i>\n
DTSTART;TZID=America/New_York:20240911T130000
DTEND;TZID=America/New_York:20240911T143000
LOCATION:Hybrid! Virtual and in-person at Insight Memory Care Center - Fair
 fax
SUMMARY:Resources and Guidance for Managing Primary Progressive Aphasia
END:VEVENT
END:VCALENDAR
