BEGIN:VCALENDAR
VERSION:2.0
PRODID:-//www.insightmcc.org//NONSGML kigkonsult.se iCalcreator 2.30.10//
CALSCALE:GREGORIAN
METHOD:PUBLISH
UID:92945460-352a-4010-8900-24425b189fb7
X-WR-CALDESC:This group will offer a safe\, welcoming and private setting f
 or caregivers to share their caregiving experiences\, connect with others 
 going through the same journey and receive insight from an expert. There w
 ill also be group discussions and educational presentations about relevant
  caregiving topics.\n\nFor September the topic will be Successful Transiti
 ons for Individuals with Dementia. When transitioning from one environment
 /setting to another the fundamental principles that apply are: planning\, 
 communication\, collaboration and person centered support.\n\n\nPlease con
 tact the event contact listed below to register!
X-WR-RELCALID:d8449674c2221073e55d3eb93dd397f5
X-WR-TIMEZONE:America/New_York
BEGIN:VTIMEZONE
TZID:America/New_York
BEGIN:STANDARD
TZNAME:EST
DTSTART:20231105T020000
TZOFFSETFROM:-0400
TZOFFSETTO:-0500
RDATE:20241103T020000
RDATE:20251102T020000
END:STANDARD
BEGIN:DAYLIGHT
TZNAME:EDT
DTSTART:20240310T020000
TZOFFSETFROM:-0500
TZOFFSETTO:-0400
RDATE:20250309T020000
RDATE:20260308T020000
END:DAYLIGHT
END:VTIMEZONE
BEGIN:VEVENT
UID:b1e514d6-b48f-4b83-b138-a9ee657c8e00
DTSTAMP:20260421T171859Z
DESCRIPTION:This group will offer a safe\, welcoming and private setting fo
 r caregivers to share their caregiving experiences\, connect with others g
 oing through the same journey and receive insight from an expert. There wi
 ll also be group discussions and educational presentations about relevant 
 caregiving topics.\n\nFor September the topic will be Successful Transitio
 ns for Individuals with Dementia. When transitioning from one environment/
 setting to another the fundamental principles that apply are: planning\, c
 ommunication\, collaboration and person centered support.\n\n\nPlease cont
 act the event contact listed below to register!
DTSTART;TZID=America/New_York:20240912T150000
DTEND;TZID=America/New_York:20240912T160000
LOCATION:Great Falls Assisted Living\, 1121 Reston Ave\, Herndon\, VA 20170
  US
SUMMARY:Caregiver Support Group - Successful Transitions for Individuals wi
 th Dementia
END:VEVENT
END:VCALENDAR
