BEGIN:VCALENDAR
VERSION:2.0
PRODID:-//www.insightmcc.org//NONSGML kigkonsult.se iCalcreator 2.30.10//
CALSCALE:GREGORIAN
METHOD:PUBLISH
UID:c24e76a8-5ac8-411c-9b72-f6a31697a962
X-WR-CALDESC:Join IMCC for a screening of the documentary 'Saving Claire' a
 long with a discussion following the movie with the Northern Virginia Fall
 s Prevention Alliance. \n\nThe Saving Claire Falls Prevention Project star
 ts with a groundbreaking documentary. The film explores the complex nature
  of aging\, resistance to change\, and all the relatable patterns that inc
 rease fall risk. Claire’s journey is a cautionary tale. The film explores 
 Claire’s attitudes and actions\, the spiral after her fall\, and the drama
 tic events that follow. Audiences connect with and relate to Claire. After
  people see Saving Claire\, they report that they are ready to change thei
 r behavior.\n\n\n\n&nbsp\;\n<strong><a href='https://insightmemory.app.neo
 ncrm.com/eventReg.jsp?event=1901&' target='_blank' class='button' rel='nor
 eferrer noopener'>Sign Me Up!</a></strong>\n
X-WR-RELCALID:b27a74063cdb5d3d9fa5f589ce346055
X-WR-TIMEZONE:America/New_York
BEGIN:VTIMEZONE
TZID:America/New_York
BEGIN:STANDARD
TZNAME:EST
DTSTART:20231105T020000
TZOFFSETFROM:-0400
TZOFFSETTO:-0500
RDATE:20241103T020000
RDATE:20251102T020000
END:STANDARD
BEGIN:DAYLIGHT
TZNAME:EDT
DTSTART:20240310T020000
TZOFFSETFROM:-0500
TZOFFSETTO:-0400
RDATE:20250309T020000
RDATE:20260308T020000
END:DAYLIGHT
END:VTIMEZONE
BEGIN:VEVENT
UID:ba665da7-d0fa-436c-8093-9f0c73fbdcb7
DTSTAMP:20260421T171350Z
DESCRIPTION:Join IMCC for a screening of the documentary 'Saving Claire' al
 ong with a discussion following the movie with the Northern Virginia Falls
  Prevention Alliance. \n\nThe Saving Claire Falls Prevention Project start
 s with a groundbreaking documentary. The film explores the complex nature 
 of aging\, resistance to change\, and all the relatable patterns that incr
 ease fall risk. Claire’s journey is a cautionary tale. The film explores C
 laire’s attitudes and actions\, the spiral after her fall\, and the dramat
 ic events that follow. Audiences connect with and relate to Claire. After 
 people see Saving Claire\, they report that they are ready to change their
  behavior.\n\n\n\n&nbsp\;\n<strong><a href='https://insightmemory.app.neon
 crm.com/eventReg.jsp?event=1901&' target='_blank' class='button' rel='nore
 ferrer noopener'>Sign Me Up!</a></strong>\n
DTSTART;TZID=America/New_York:20240914T170000
DTEND;TZID=America/New_York:20240914T180000
LOCATION:Workhouse Arts Center - Building W16\, 9518 Workhouse Way\, Lorton
 \, VA 22079 US
SUMMARY:Saving Claire Film Screening and Q&A
END:VEVENT
END:VCALENDAR
