BEGIN:VCALENDAR
VERSION:2.0
PRODID:-//www.insightmcc.org//NONSGML kigkonsult.se iCalcreator 2.30.10//
CALSCALE:GREGORIAN
METHOD:PUBLISH
UID:11bc8f6c-285d-4313-91c2-7cec90209e83
X-WR-CALDESC:In appreciation of Adult Day Services Week the Friends of Insi
 ght will hosting a Potluck Lunch for the Day Center staff in the conferenc
 e room. \n\n&nbsp\;\n<strong><a href='https://www.signupgenius.com/go/10C0
 A4DA4AB2BA2F4C52-50685435-adsweek' class='button'>Sign Me Up!</a></strong>
X-WR-RELCALID:79a5f382845c0cf1f76f794b692a5d91
X-WR-TIMEZONE:America/New_York
BEGIN:VTIMEZONE
TZID:America/New_York
BEGIN:STANDARD
TZNAME:EST
DTSTART:20231105T020000
TZOFFSETFROM:-0400
TZOFFSETTO:-0500
RDATE:20241103T020000
RDATE:20251102T020000
END:STANDARD
BEGIN:DAYLIGHT
TZNAME:EDT
DTSTART:20240310T020000
TZOFFSETFROM:-0500
TZOFFSETTO:-0400
RDATE:20250309T020000
RDATE:20260308T020000
END:DAYLIGHT
END:VTIMEZONE
BEGIN:VEVENT
UID:e4899538-c8ba-44c5-9d91-3d362c1e1c92
DTSTAMP:20260421T171815Z
DESCRIPTION:In appreciation of Adult Day Services Week the Friends of Insig
 ht will hosting a Potluck Lunch for the Day Center staff in the conference
  room. \n\n&nbsp\;\n<strong><a href='https://www.signupgenius.com/go/10C0A
 4DA4AB2BA2F4C52-50685435-adsweek' class='button'>Sign Me Up!</a></strong>
DTSTART;TZID=America/New_York:20240917T110000
DTEND;TZID=America/New_York:20240917T130000
LOCATION:Insight Memory Care Center - Fairfax \, 3953 Pender Drive\, Suite 
 100\, Fairfax\, VA 22030 US
SUMMARY:Friends of Insight - ADS Week Staff Celebration Event
END:VEVENT
END:VCALENDAR
