BEGIN:VCALENDAR
VERSION:2.0
PRODID:-//www.insightmcc.org//NONSGML kigkonsult.se iCalcreator 2.30.10//
CALSCALE:GREGORIAN
METHOD:PUBLISH
UID:08b11584-b53a-4c08-9a4b-9544b4e9210b
X-WR-CALDESC:Come enjoy an afternoon of dining and conversation! SAGE Table
  is an initiative launched in 2017 to fight isolation in the LGBTQ+ commun
 ity through the power of intergenerational connections. SAGE Table events 
 bring together people of all ages to share a meal and conversation. The tr
 ansformative relationships formed around a SAGE Table can alleviate social
  isolation and its consequences.\n\nMembers of the LGBTQ+ community and al
 lies are encouraged to attend. Meals will be provided. The only item you n
 eed to bring bring is yourself! Space is limited - sign up today!\n\n&nbsp
 \;\n<strong><a href='https://insightmemory.app.neoncrm.com/eventReg.jsp?ev
 ent=1885&' target='_blank' class='button' rel='noreferrer noopener'>Sign M
 e Up!</a></strong>\n
X-WR-RELCALID:ec6bd17f9573bb739796b5b8bb0916d9
X-WR-TIMEZONE:America/New_York
BEGIN:VTIMEZONE
TZID:America/New_York
BEGIN:STANDARD
TZNAME:EST
DTSTART:20231105T020000
TZOFFSETFROM:-0400
TZOFFSETTO:-0500
RDATE:20241103T020000
RDATE:20251102T020000
END:STANDARD
BEGIN:DAYLIGHT
TZNAME:EDT
DTSTART:20240310T020000
TZOFFSETFROM:-0500
TZOFFSETTO:-0400
RDATE:20250309T020000
RDATE:20260308T020000
END:DAYLIGHT
END:VTIMEZONE
BEGIN:VEVENT
UID:ec46ae65-0131-46d6-b0f2-024f7071783e
DTSTAMP:20260421T171010Z
DESCRIPTION:Come enjoy an afternoon of dining and conversation! SAGE Table 
 is an initiative launched in 2017 to fight isolation in the LGBTQ+ communi
 ty through the power of intergenerational connections. SAGE Table events b
 ring together people of all ages to share a meal and conversation. The tra
 nsformative relationships formed around a SAGE Table can alleviate social 
 isolation and its consequences.\n\nMembers of the LGBTQ+ community and all
 ies are encouraged to attend. Meals will be provided. The only item you ne
 ed to bring bring is yourself! Space is limited - sign up today!\n\n&nbsp\
 ;\n<strong><a href='https://insightmemory.app.neoncrm.com/eventReg.jsp?eve
 nt=1885&' target='_blank' class='button' rel='noreferrer noopener'>Sign Me
  Up!</a></strong>\n
DTSTART;TZID=America/New_York:20240917T110000
DTEND;TZID=America/New_York:20240917T130000
LOCATION:The Providence Fairfax\, 9490 Sprague Ave\, Fairfax\, VA 22031 US
SUMMARY:SAGE Table Event
END:VEVENT
END:VCALENDAR
