BEGIN:VCALENDAR
VERSION:2.0
PRODID:-//www.insightmcc.org//NONSGML kigkonsult.se iCalcreator 2.30.10//
CALSCALE:GREGORIAN
METHOD:PUBLISH
UID:050ffa94-2d23-4568-a82a-572dce2d8ad3
X-WR-CALDESC:<h6>New to Insight Memory Care Center? Want to learn more?</h6
 >\nEvents are offered on the 3rd Thursday of the month from 9:30 am to 10:
 30 am. Come and see our programs in action\, meet the staff\, and learn mo
 re about resources available.\n\n9:30-10:00 am | Meet and Greet\n10:00-10:
 30 am | Tour of Insight Programs in Action\n\n\n&nbsp\;\n<strong><a href='
 https://insightmemory.app.neoncrm.com/eventReg.jsp?event=1774&' class='but
 ton'>Sign Me Up!</a></strong>
X-WR-RELCALID:26a18d3bc8b59ccef10358627bb778c5
X-WR-TIMEZONE:America/New_York
BEGIN:VTIMEZONE
TZID:America/New_York
BEGIN:STANDARD
TZNAME:EST
DTSTART:20231105T020000
TZOFFSETFROM:-0400
TZOFFSETTO:-0500
RDATE:20241103T020000
RDATE:20251102T020000
END:STANDARD
BEGIN:DAYLIGHT
TZNAME:EDT
DTSTART:20240310T020000
TZOFFSETFROM:-0500
TZOFFSETTO:-0400
RDATE:20250309T020000
RDATE:20260308T020000
END:DAYLIGHT
END:VTIMEZONE
BEGIN:VEVENT
UID:0c22c981-5d12-4ee0-b334-583095271ad2
DTSTAMP:20260421T171227Z
DESCRIPTION:<h6>New to Insight Memory Care Center? Want to learn more?</h6>
 \nEvents are offered on the 3rd Thursday of the month from 9:30 am to 10:3
 0 am. Come and see our programs in action\, meet the staff\, and learn mor
 e about resources available.\n\n9:30-10:00 am | Meet and Greet\n10:00-10:3
 0 am | Tour of Insight Programs in Action\n\n\n&nbsp\;\n<strong><a href='h
 ttps://insightmemory.app.neoncrm.com/eventReg.jsp?event=1774&' class='butt
 on'>Sign Me Up!</a></strong>
DTSTART;TZID=America/New_York:20240919T093000
DTEND;TZID=America/New_York:20240919T103000
LOCATION:Insight Memory Care Center - Fairfax (Main Building)\, 3953 Pender
  Drive Suite 100\, Fairfax\, VA 22030 US
SUMMARY:Insight in Action
END:VEVENT
END:VCALENDAR
