BEGIN:VCALENDAR
VERSION:2.0
PRODID:-//www.insightmcc.org//NONSGML kigkonsult.se iCalcreator 2.30.10//
CALSCALE:GREGORIAN
METHOD:PUBLISH
UID:85f362eb-7aad-455a-a643-70e999864686
X-WR-CALDESC:Insight Memory Care Center will offer free\, confidential memo
 ry screenings and educational materials to people with concerns about thei
 r memory or who want to check their memory now for future comparison.\n\nT
 he screenings will be held in Meeting Room A.
X-WR-RELCALID:225049e7fd4c83b456850e547110b4f2
X-WR-TIMEZONE:America/New_York
BEGIN:VTIMEZONE
TZID:America/New_York
BEGIN:STANDARD
TZNAME:EST
DTSTART:20231105T020000
TZOFFSETFROM:-0400
TZOFFSETTO:-0500
RDATE:20241103T020000
RDATE:20251102T020000
END:STANDARD
BEGIN:DAYLIGHT
TZNAME:EDT
DTSTART:20240310T020000
TZOFFSETFROM:-0500
TZOFFSETTO:-0400
RDATE:20250309T020000
RDATE:20260308T020000
END:DAYLIGHT
END:VTIMEZONE
BEGIN:VEVENT
UID:346f6310-0d2d-4f55-8dc4-6de4911cbb82
DTSTAMP:20260421T171010Z
DESCRIPTION:Insight Memory Care Center will offer free\, confidential memor
 y screenings and educational materials to people with concerns about their
  memory or who want to check their memory now for future comparison.\n\nTh
 e screenings will be held in Meeting Room A.
DTSTART;TZID=America/New_York:20240920T143000
DTEND;TZID=America/New_York:20240920T170000
LOCATION:Ashburn Library (Meeting Room A)\, 43316 Hay Road\, Ashburn\, VA 2
 0147 US
SUMMARY:Memory Screenings at Ashburn Library
END:VEVENT
END:VCALENDAR
