BEGIN:VCALENDAR
VERSION:2.0
PRODID:-//www.insightmcc.org//NONSGML kigkonsult.se iCalcreator 2.30.10//
CALSCALE:GREGORIAN
METHOD:PUBLISH
UID:c870689e-d5ec-45bd-a220-7dfa8db3459d
X-WR-CALDESC:All are welcome to attend this virtual support group for famil
 y and friends of those with dementia and other memory impairments. This gr
 oup allows care partners to problem-solve\, discuss issues\, and connect w
 ith each other regarding dementia in every-day life. This group will also 
 include practical resources and guest speakers throughout the year. \n\nPl
 ease reach out to the event contact listed below to register and receive i
 nformation to join. This group is held monthly on the 4th Tuesday.
X-WR-RELCALID:097c115f5312f0fa260f37d5859e3e18
X-WR-TIMEZONE:America/New_York
BEGIN:VTIMEZONE
TZID:America/New_York
BEGIN:STANDARD
TZNAME:EST
DTSTART:20231105T020000
TZOFFSETFROM:-0400
TZOFFSETTO:-0500
RDATE:20241103T020000
RDATE:20251102T020000
END:STANDARD
BEGIN:DAYLIGHT
TZNAME:EDT
DTSTART:20240310T020000
TZOFFSETFROM:-0500
TZOFFSETTO:-0400
RDATE:20250309T020000
RDATE:20260308T020000
END:DAYLIGHT
END:VTIMEZONE
BEGIN:VEVENT
UID:3bba0cde-d0e4-4bd1-95ce-d8e938b6b8e4
DTSTAMP:20260421T171308Z
DESCRIPTION:All are welcome to attend this virtual support group for family
  and friends of those with dementia and other memory impairments. This gro
 up allows care partners to problem-solve\, discuss issues\, and connect wi
 th each other regarding dementia in every-day life. This group will also i
 nclude practical resources and guest speakers throughout the year. \n\nPle
 ase reach out to the event contact listed below to register and receive in
 formation to join. This group is held monthly on the 4th Tuesday.
DTSTART;TZID=America/New_York:20240924T163000
DTEND;TZID=America/New_York:20240924T173000
LOCATION:Virtual
SUMMARY:Silverado Caregiver Support Group
END:VEVENT
END:VCALENDAR
