BEGIN:VCALENDAR
VERSION:2.0
PRODID:-//www.insightmcc.org//NONSGML kigkonsult.se iCalcreator 2.30.10//
CALSCALE:GREGORIAN
METHOD:PUBLISH
UID:fbd2e5cb-1a47-4212-8b17-c933e30f8806
X-WR-CALDESC:<b> This event has been canceled. Please visit https://www.fai
 rfaxcounty.gov/familyservices/older-adults/ for more info on future events
 . </b>\n\n\nDementia Friendly Fairfax envisions our community as a place w
 here people living with dementia and their care partners will be able to e
 ngage in a variety of activities\, be supported in the highest quality of 
 life\, and can live independently for as long as possible.\n\nLearn how to
  become a dementia friend and turn your new understanding of dementia into
  a practical action that can help someone living in your community.\n
X-WR-RELCALID:4fe3603170ed5d2870ac0edd50a04b5e
X-WR-TIMEZONE:America/New_York
BEGIN:VTIMEZONE
TZID:America/New_York
BEGIN:STANDARD
TZNAME:EST
DTSTART:20231105T020000
TZOFFSETFROM:-0400
TZOFFSETTO:-0500
RDATE:20241103T020000
RDATE:20251102T020000
END:STANDARD
BEGIN:DAYLIGHT
TZNAME:EDT
DTSTART:20240310T020000
TZOFFSETFROM:-0500
TZOFFSETTO:-0400
RDATE:20250309T020000
RDATE:20260308T020000
END:DAYLIGHT
END:VTIMEZONE
BEGIN:VEVENT
UID:33168684-fa97-4850-a475-ab6382dccc99
DTSTAMP:20260421T171427Z
DESCRIPTION:<b> This event has been canceled. Please visit https://www.fair
 faxcounty.gov/familyservices/older-adults/ for more info on future events.
  </b>\n\n\nDementia Friendly Fairfax envisions our community as a place wh
 ere people living with dementia and their care partners will be able to en
 gage in a variety of activities\, be supported in the highest quality of l
 ife\, and can live independently for as long as possible.\n\nLearn how to 
 become a dementia friend and turn your new understanding of dementia into 
 a practical action that can help someone living in your community.\n
DTSTART;TZID=America/New_York:20240925T120000
DTEND;TZID=America/New_York:20240925T134500
LOCATION:Insight Memory Care Center - Fairfax (Mazawey Education and Suppor
 t Center)\, 3955 Pender Drive\, Suite 100\, Fairfax\, VA 22030 US
SUMMARY:CANCELED - Dementia Friends Information Session
END:VEVENT
END:VCALENDAR
