BEGIN:VCALENDAR
VERSION:2.0
PRODID:-//www.insightmcc.org//NONSGML kigkonsult.se iCalcreator 2.30.10//
CALSCALE:GREGORIAN
METHOD:PUBLISH
UID:3cc39b91-4f5f-4f8e-a0fe-add95ba9ce5c
X-WR-CALDESC:Take the path to certification as a Certified Dementia Practit
 ioner through the National Council of Certified Dementia Practitioners! Al
 l health care professionals and front line staff who work in the health ca
 re industry are encouraged to attend. This is the required seminar for tho
 se pursuing CDP certification\, to qualify through the National Council of
  Certified Dementia Practitioners. To see if you qualify\, please visit th
 e NCCDP website at www.nccdp.org. You are also welcome to just come for th
 e education!\n\nThe seminar will cover the following modules: Diagnosis\, 
 Prognosis\, Treatment\, Communication\, Feelings\, Depression\, Repetitive
  Behavior\, Paranoia\, Hallucinations\, Wandering\, Hoarding\, Aggressive 
 Behaviors\, Catastrophic Reactions\, Intimacy and Sexuality\, Personal Car
 e\, Pain\, Nutrition\, Activities\, Environment\, Staff and Family Support
 \, Diversity and Cultural Competence\, Spiritual Care\, and End of Life.\n
 \nCost is $200 per person. A cancellation fee of $75 will apply.\n\nSpace 
 is Limited. Payment for the student handbook must be received one week in 
 advance of the class to ensure course enrollment. No form of taping is all
 owed in the seminar. A Student Handout Notebook will be provided. This sem
 inar is approved for 7 CEUs for nurses with the CEU Network in most states
  for an additional fee of $28. Information will be provided to you during 
 the class.\n\nThis event is generously sponsored by Sunrise of McLean!\n\n
 <strong><a href='https://insightmemory.app.neoncrm.com/eventReg.jsp?event=
 1484&' class='button'>Sign Me Up!</a></strong>
X-WR-RELCALID:e6cbf4bf212ac73ec7b572bb91686d17
X-WR-TIMEZONE:America/New_York
BEGIN:VTIMEZONE
TZID:America/New_York
BEGIN:STANDARD
TZNAME:EST
DTSTART:20231105T020000
TZOFFSETFROM:-0400
TZOFFSETTO:-0500
RDATE:20241103T020000
RDATE:20251102T020000
END:STANDARD
BEGIN:DAYLIGHT
TZNAME:EDT
DTSTART:20240310T020000
TZOFFSETFROM:-0500
TZOFFSETTO:-0400
RDATE:20250309T020000
RDATE:20260308T020000
END:DAYLIGHT
END:VTIMEZONE
BEGIN:VEVENT
UID:71ea33d8-d7bd-46b4-8d6e-47b1a30d5c66
DTSTAMP:20260421T171822Z
DESCRIPTION:Take the path to certification as a Certified Dementia Practiti
 oner through the National Council of Certified Dementia Practitioners! All
  health care professionals and front line staff who work in the health car
 e industry are encouraged to attend. This is the required seminar for thos
 e pursuing CDP certification\, to qualify through the National Council of 
 Certified Dementia Practitioners. To see if you qualify\, please visit the
  NCCDP website at www.nccdp.org. You are also welcome to just come for the
  education!\n\nThe seminar will cover the following modules: Diagnosis\, P
 rognosis\, Treatment\, Communication\, Feelings\, Depression\, Repetitive 
 Behavior\, Paranoia\, Hallucinations\, Wandering\, Hoarding\, Aggressive B
 ehaviors\, Catastrophic Reactions\, Intimacy and Sexuality\, Personal Care
 \, Pain\, Nutrition\, Activities\, Environment\, Staff and Family Support\
 , Diversity and Cultural Competence\, Spiritual Care\, and End of Life.\n
 \nCost is $200 per person. A cancellation fee of $75 will apply.\n\nSpace 
 is Limited. Payment for the student handbook must be received one week in 
 advance of the class to ensure course enrollment. No form of taping is all
 owed in the seminar. A Student Handout Notebook will be provided. This sem
 inar is approved for 7 CEUs for nurses with the CEU Network in most states
  for an additional fee of $28. Information will be provided to you during 
 the class.\n\nThis event is generously sponsored by Sunrise of McLean!\n\n
 <strong><a href='https://insightmemory.app.neoncrm.com/eventReg.jsp?event=
 1484&' class='button'>Sign Me Up!</a></strong>
DTSTART;TZID=America/New_York:20240926T083000
DTEND;TZID=America/New_York:20240926T163000
LOCATION:Sunrise of McLean\, 8315 Turning Leaf Lane\, McLean\, VA 22102 US
SUMMARY:Alzheimer's Disease and Dementia Care Seminar: Path to CDP
END:VEVENT
END:VCALENDAR
