BEGIN:VCALENDAR
VERSION:2.0
PRODID:-//www.insightmcc.org//NONSGML kigkonsult.se iCalcreator 2.30.10//
CALSCALE:GREGORIAN
METHOD:PUBLISH
UID:78d28a81-f428-49ee-8f0e-3e0ece126e6a
X-WR-CALDESC:Meet Me: Community Outings are free\, and give families living
  with mild cognitive impairment (MCI) or early stage memory loss an opport
 unity to connect and stay engaged in the community\, in a safe and support
 ive way. Outings are designed for both the diagnosed individual and a care
  partner or friend to participate together\, and meet new friends in the p
 rocess!\n\nLet’s enjoy late summer blooms on our walk through Meadowlark B
 otanical Gardens! Join in a guided tour leading you to the best sights of 
 the gardens. We go at a pace that everyone can enjoy and take in the sight
 s and sounds of the Gardens. Be sure to wear good walking shoes and bring 
 a bottle of water for this walk. We will walk at the pace of the group and
  select walkways that is best for everyone’s mobility status. Light refres
 hments will be provided.\n\nMany thanks to I'm Still Here for providing fu
 nding for this program so that families can participate for free!\n\n\n&nb
 sp\;\n<strong><a href='https://insightmemory.app.neoncrm.com/eventReg.jsp?
 event=1864&' target='_blank' class='button' rel='noreferrer noopener'>Sign
  Me Up!</a></strong>\n\n
X-WR-RELCALID:6bd95c81a0ea7af162fd9f9f53f155b8
X-WR-TIMEZONE:America/New_York
BEGIN:VTIMEZONE
TZID:America/New_York
BEGIN:STANDARD
TZNAME:EST
DTSTART:20231105T020000
TZOFFSETFROM:-0400
TZOFFSETTO:-0500
RDATE:20241103T020000
RDATE:20251102T020000
END:STANDARD
BEGIN:DAYLIGHT
TZNAME:EDT
DTSTART:20240310T020000
TZOFFSETFROM:-0500
TZOFFSETTO:-0400
RDATE:20250309T020000
RDATE:20260308T020000
END:DAYLIGHT
END:VTIMEZONE
BEGIN:VEVENT
UID:f518e0d8-240e-45bc-9f13-ef147467c5bc
DTSTAMP:20260421T171454Z
DESCRIPTION:Meet Me: Community Outings are free\, and give families living 
 with mild cognitive impairment (MCI) or early stage memory loss an opportu
 nity to connect and stay engaged in the community\, in a safe and supporti
 ve way. Outings are designed for both the diagnosed individual and a care 
 partner or friend to participate together\, and meet new friends in the pr
 ocess!\n\nLet’s enjoy late summer blooms on our walk through Meadowlark Bo
 tanical Gardens! Join in a guided tour leading you to the best sights of t
 he gardens. We go at a pace that everyone can enjoy and take in the sights
  and sounds of the Gardens. Be sure to wear good walking shoes and bring a
  bottle of water for this walk. We will walk at the pace of the group and 
 select walkways that is best for everyone’s mobility status. Light refresh
 ments will be provided.\n\nMany thanks to I'm Still Here for providing fun
 ding for this program so that families can participate for free!\n\n\n&nbs
 p\;\n<strong><a href='https://insightmemory.app.neoncrm.com/eventReg.jsp?e
 vent=1864&' target='_blank' class='button' rel='noreferrer noopener'>Sign 
 Me Up!</a></strong>\n\n
DTSTART;TZID=America/New_York:20240926T120000
DTEND;TZID=America/New_York:20240926T133000
LOCATION:Meadowlark Botanical Gardens \, 9750 Meadowlark Gardens Ct\, Vienn
 a\, VA 22182 US
SUMMARY:Meet Me: At Meadowlark Botanical Gardens
END:VEVENT
END:VCALENDAR
