BEGIN:VCALENDAR
VERSION:2.0
PRODID:-//www.insightmcc.org//NONSGML kigkonsult.se iCalcreator 2.30.10//
CALSCALE:GREGORIAN
METHOD:PUBLISH
UID:af8297c3-b1d5-451e-a63d-c0a8fa1aace9
X-WR-CALDESC:<h6>Save the Date!</h6>\n\nJoin us for a fantastic evening of 
 celebrating Insight's work in the community! Guests will enjoy great food\
 , live and virtual auctions\, networking\, and a wonderful program highlig
 hting dementia care in our community.\n\n<strong>5:30 | COCKTAIL RECEPTION
 </strong>\nSilent auction\, live music\, networking\, passed hors d’oeuvre
 s and paired wines\n\n<strong>7:30 | THREE-COURSE DINNER</strong>\nSeasona
 l salad\, delicious meal and dessert to enjoy at your table\n\n<strong>8:0
 0 | GALA PROGRAM</strong>\nSponsor Recognition\, Excellence In Memory Care
  Awards\, and Live Auction\n\n<em>Cocktail attire preferred.</em>\n\nAll p
 roceeds from the event benefit Insight Memory Care Center\, a nonprofit ad
 ult day health and resource center. Help us achieve our vision of a commun
 ity where those affected by memory impairments can achieve the highest qua
 lity of life.\n
X-WR-RELCALID:aff71ae2b0eb24b65dd5f08b7b34e8d7
X-WR-TIMEZONE:America/New_York
BEGIN:VTIMEZONE
TZID:America/New_York
BEGIN:STANDARD
TZNAME:EST
DTSTART:20231105T020000
TZOFFSETFROM:-0400
TZOFFSETTO:-0500
RDATE:20241103T020000
RDATE:20251102T020000
END:STANDARD
BEGIN:DAYLIGHT
TZNAME:EDT
DTSTART:20240310T020000
TZOFFSETFROM:-0500
TZOFFSETTO:-0400
RDATE:20250309T020000
RDATE:20260308T020000
END:DAYLIGHT
END:VTIMEZONE
BEGIN:VEVENT
UID:97defe8a-dd0a-44ff-8bdc-f953d6b6be70
DTSTAMP:20260421T003905Z
DESCRIPTION:<h6>Save the Date!</h6>\n\nJoin us for a fantastic evening of c
 elebrating Insight's work in the community! Guests will enjoy great food\,
  live and virtual auctions\, networking\, and a wonderful program highligh
 ting dementia care in our community.\n\n<strong>5:30 | COCKTAIL RECEPTION<
 /strong>\nSilent auction\, live music\, networking\, passed hors d’oeuvres
  and paired wines\n\n<strong>7:30 | THREE-COURSE DINNER</strong>\nSeasonal
  salad\, delicious meal and dessert to enjoy at your table\n\n<strong>8:00
  | GALA PROGRAM</strong>\nSponsor Recognition\, Excellence In Memory Care 
 Awards\, and Live Auction\n\n<em>Cocktail attire preferred.</em>\n\nAll pr
 oceeds from the event benefit Insight Memory Care Center\, a nonprofit adu
 lt day health and resource center. Help us achieve our vision of a communi
 ty where those affected by memory impairments can achieve the highest qual
 ity of life.\n
DTSTART;TZID=America/New_York:20241004T173000
DTEND;TZID=America/New_York:20241004T220000
LOCATION:Westfields Marriott\, 14750 Conference Center Drive\, Chantilly\, 
 VA 20151 US
SUMMARY:Paintings & Pairings: An Insight Gala
END:VEVENT
END:VCALENDAR
