BEGIN:VCALENDAR
VERSION:2.0
PRODID:-//www.insightmcc.org//NONSGML kigkonsult.se iCalcreator 2.30.10//
CALSCALE:GREGORIAN
METHOD:PUBLISH
UID:cd14b54c-d8b4-46da-a528-ef6f22ae0fc1
X-WR-CALDESC:All are welcome to attend this support group for family and fr
 iends of those with dementia and other memory impairments. This group allo
 ws care partners to problem-solve\, discuss issues\, and connect with each
  other regarding dementia in every-day life. This group will also include 
 practical resources and guest speakers throughout the year.\n\nThis group 
 is held the first Monday of the month in person at the Lorton Library. All
  support groups are free and open to the public.\n\n&nbsp\;\n<strong><a hr
 ef='https://insightmemory.app.neoncrm.com/eventReg.jsp?event=1739&' target
 ='_blank' class='button' rel='noreferrer noopener'>Sign Me Up!</a></strong
 >\n
X-WR-RELCALID:1b2be4ab1c2b859f3318925306fadb24
X-WR-TIMEZONE:America/New_York
BEGIN:VTIMEZONE
TZID:America/New_York
BEGIN:STANDARD
TZNAME:EST
DTSTART:20231105T020000
TZOFFSETFROM:-0400
TZOFFSETTO:-0500
RDATE:20241103T020000
RDATE:20251102T020000
END:STANDARD
BEGIN:DAYLIGHT
TZNAME:EDT
DTSTART:20240310T020000
TZOFFSETFROM:-0500
TZOFFSETTO:-0400
RDATE:20250309T020000
RDATE:20260308T020000
END:DAYLIGHT
END:VTIMEZONE
BEGIN:VEVENT
UID:94d0666c-d3eb-4c93-8757-871b9a0e36a6
DTSTAMP:20260421T184651Z
DESCRIPTION:All are welcome to attend this support group for family and fri
 ends of those with dementia and other memory impairments. This group allow
 s care partners to problem-solve\, discuss issues\, and connect with each 
 other regarding dementia in every-day life. This group will also include p
 ractical resources and guest speakers throughout the year.\n\nThis group i
 s held the first Monday of the month in person at the Lorton Library. All 
 support groups are free and open to the public.\n\n&nbsp\;\n<strong><a hre
 f='https://insightmemory.app.neoncrm.com/eventReg.jsp?event=1739&' target=
 '_blank' class='button' rel='noreferrer noopener'>Sign Me Up!</a></strong>
 \n
DTSTART;TZID=America/New_York:20241007T190000
DTEND;TZID=America/New_York:20241007T200000
LOCATION:Lorton Library - Lorton Meeting Room\, 9520 Richmond Hwy\, Lorton\
 , VA 22079 US
SUMMARY:Dementia Support Group - Lorton Library
END:VEVENT
END:VCALENDAR
