BEGIN:VCALENDAR
VERSION:2.0
PRODID:-//www.insightmcc.org//NONSGML kigkonsult.se iCalcreator 2.30.10//
CALSCALE:GREGORIAN
METHOD:PUBLISH
UID:23dcd9e5-2eaf-493f-8256-5a77c24b19f7
X-WR-CALDESC:Come enjoy an afternoon of dining and conversation! SAGE Table
  is an initiative launched in 2017 to fight isolation in the LGBTQ+ commun
 ity through the power of intergenerational connections. SAGE Table events 
 bring together people of all ages to share a meal and conversation. The tr
 ansformative relationships formed around a SAGE Table can alleviate social
  isolation and its consequences.\n\nMembers of the LGBTQ+ community and al
 lies are encouraged to attend. Meals will be provided. The only item you n
 eed to bring bring is yourself! Space is limited - sign up today!\n\n&nbsp
 \;\n<strong><a href='https://insightmemory.app.neoncrm.com/eventReg.jsp?ev
 ent=1906&' target='_blank' class='button' rel='noreferrer noopener'>Sign M
 e Up!</a></strong>
X-WR-RELCALID:601d4a0d52689793ff657b48431b6670
X-WR-TIMEZONE:America/New_York
BEGIN:VTIMEZONE
TZID:America/New_York
BEGIN:STANDARD
TZNAME:EST
DTSTART:20231105T020000
TZOFFSETFROM:-0400
TZOFFSETTO:-0500
RDATE:20241103T020000
RDATE:20251102T020000
END:STANDARD
BEGIN:DAYLIGHT
TZNAME:EDT
DTSTART:20240310T020000
TZOFFSETFROM:-0500
TZOFFSETTO:-0400
RDATE:20250309T020000
RDATE:20260308T020000
END:DAYLIGHT
END:VTIMEZONE
BEGIN:VEVENT
UID:de42d032-a1c7-4c47-8a1c-8fb3c850a655
DTSTAMP:20260421T183557Z
DESCRIPTION:Come enjoy an afternoon of dining and conversation! SAGE Table 
 is an initiative launched in 2017 to fight isolation in the LGBTQ+ communi
 ty through the power of intergenerational connections. SAGE Table events b
 ring together people of all ages to share a meal and conversation. The tra
 nsformative relationships formed around a SAGE Table can alleviate social 
 isolation and its consequences.\n\nMembers of the LGBTQ+ community and all
 ies are encouraged to attend. Meals will be provided. The only item you ne
 ed to bring bring is yourself! Space is limited - sign up today!\n\n&nbsp\
 ;\n<strong><a href='https://insightmemory.app.neoncrm.com/eventReg.jsp?eve
 nt=1906&' target='_blank' class='button' rel='noreferrer noopener'>Sign Me
  Up!</a></strong>
DTSTART;TZID=America/New_York:20241008T120000
DTEND;TZID=America/New_York:20241008T140000
LOCATION:The Landing Alexandria\, 2620 Main Line Blvd\, Alexandria\, VA 223
 01 US
SUMMARY:SAGE Table Event
END:VEVENT
END:VCALENDAR
