BEGIN:VCALENDAR
VERSION:2.0
PRODID:-//www.insightmcc.org//NONSGML kigkonsult.se iCalcreator 2.30.10//
CALSCALE:GREGORIAN
METHOD:PUBLISH
UID:3a331c10-297b-4d07-b6c9-57f7325983d1
X-WR-CALDESC:Insight will be closed for Indigenous Peoples' Day. Enjoy your
  holiday!
X-WR-RELCALID:e50ab81357092dc8081cb002c9b0c5cd
X-WR-TIMEZONE:America/New_York
BEGIN:VTIMEZONE
TZID:America/New_York
BEGIN:STANDARD
TZNAME:EST
DTSTART:20231105T020000
TZOFFSETFROM:-0400
TZOFFSETTO:-0500
RDATE:20241103T020000
RDATE:20251102T020000
END:STANDARD
BEGIN:DAYLIGHT
TZNAME:EDT
DTSTART:20240310T020000
TZOFFSETFROM:-0500
TZOFFSETTO:-0400
RDATE:20250309T020000
RDATE:20260308T020000
END:DAYLIGHT
END:VTIMEZONE
BEGIN:VEVENT
UID:e7bc24f6-abfe-4707-b535-f0b552cc0865
DTSTAMP:20260421T183556Z
DESCRIPTION:Insight will be closed for Indigenous Peoples' Day. Enjoy your 
 holiday!
DTSTART;TZID=America/New_York:20241014T060000
DTEND;TZID=America/New_York:20241014T060001
LOCATION:
SUMMARY:Insight Closed
END:VEVENT
END:VCALENDAR
