BEGIN:VCALENDAR
VERSION:2.0
PRODID:-//www.insightmcc.org//NONSGML kigkonsult.se iCalcreator 2.30.10//
CALSCALE:GREGORIAN
METHOD:PUBLISH
UID:03547efc-cacd-439e-8d49-e35e14011a8a
X-WR-CALDESC:Learn more about age-related changes in memory and learning\, 
 and practices to keep your brain sharp! \n\nThis event is presented by the
  Insight Memory Care Center Education team at the First Baptist Church of 
 Vienna. Please contact the event contact listed below to RSVP.
X-WR-RELCALID:5db11e8c717f7b16991aaf16bfede83d
X-WR-TIMEZONE:America/New_York
BEGIN:VTIMEZONE
TZID:America/New_York
BEGIN:STANDARD
TZNAME:EST
DTSTART:20231105T020000
TZOFFSETFROM:-0400
TZOFFSETTO:-0500
RDATE:20241103T020000
RDATE:20251102T020000
END:STANDARD
BEGIN:DAYLIGHT
TZNAME:EDT
DTSTART:20240310T020000
TZOFFSETFROM:-0500
TZOFFSETTO:-0400
RDATE:20250309T020000
RDATE:20260308T020000
END:DAYLIGHT
END:VTIMEZONE
BEGIN:VEVENT
UID:f927035f-bcc5-47f2-93d5-0ecf3dd7c38e
DTSTAMP:20260421T184721Z
DESCRIPTION:Learn more about age-related changes in memory and learning\, a
 nd practices to keep your brain sharp! \n\nThis event is presented by the 
 Insight Memory Care Center Education team at the First Baptist Church of V
 ienna. Please contact the event contact listed below to RSVP.
DTSTART;TZID=America/New_York:20241015T120000
DTEND;TZID=America/New_York:20241015T130000
LOCATION:First Baptist Church of Vienna\, 450 Orchard Street\, NW\, Vienna\
 , VA 22180 US
SUMMARY:Better Brain Health as You Age
END:VEVENT
END:VCALENDAR
