BEGIN:VCALENDAR
VERSION:2.0
PRODID:-//www.insightmcc.org//NONSGML kigkonsult.se iCalcreator 2.30.10//
CALSCALE:GREGORIAN
METHOD:PUBLISH
UID:175efd42-9dc8-4027-8157-1a60e4cf1d02
X-WR-CALDESC:Join IMCC for a free\, Saturday morning training event coverin
 g many essential caregiving topics! Our speakers include Dr. Jennifer Paul
 durai\, MD and Rebecca Harrison\, LCSW!\n\nTopics covered:\n\nQUESTIONS FO
 R THE NEUROLOGIST\nDr. Jennifer Pauldurai\, MD\nIt’s important to gather a
 s much information from your doctor as you can. Asking the right questions
  can help you navigate your appointments and this journey.\n\nCAREGIVING B
 INDER WORKSHOP\nA care binder is a critical organizational tool to keep tr
 ack of everything related to caregiving duties and your loved one’s care n
 eeds. In this session\, we will start the process of creating care binders
  for your loved one.\n\nFAMILY DYNAMICS & DEMENTIA\nRebecca Harrison\, LCS
 W\nNavigating family dynamics can be tricky on a good day - but add in a d
 ementia diagnosis and things get even more complex! We’ll learn more about
  navigating these new dynamics!\n\n<b>*** Respite care available***</b> Pl
 ease contact Melissa at: melissa.long@insightmcc.org by October 11 to requ
 est respite care for this event.\n\n&nbsp\;\n<strong><a href='https://insi
 ghtmemory.app.neoncrm.com/eventReg.jsp?event=1849&' target='_blank' class=
 'button' rel='noreferrer noopener'>Sign Me Up!</a></strong>\n\nMany thanks
  to our sponsor\, Hunters Woods at Trails Edge!
X-WR-RELCALID:7f1993b6477f32cb7484631b1c476cdc
X-WR-TIMEZONE:America/New_York
BEGIN:VTIMEZONE
TZID:America/New_York
BEGIN:STANDARD
TZNAME:EST
DTSTART:20231105T020000
TZOFFSETFROM:-0400
TZOFFSETTO:-0500
RDATE:20241103T020000
RDATE:20251102T020000
END:STANDARD
BEGIN:DAYLIGHT
TZNAME:EDT
DTSTART:20240310T020000
TZOFFSETFROM:-0500
TZOFFSETTO:-0400
RDATE:20250309T020000
RDATE:20260308T020000
END:DAYLIGHT
END:VTIMEZONE
BEGIN:VEVENT
UID:a626677f-efcb-47e0-a87c-2f98797a0629
DTSTAMP:20260421T183646Z
DESCRIPTION:Join IMCC for a free\, Saturday morning training event covering
  many essential caregiving topics! Our speakers include Dr. Jennifer Pauld
 urai\, MD and Rebecca Harrison\, LCSW!\n\nTopics covered:\n\nQUESTIONS FOR
  THE NEUROLOGIST\nDr. Jennifer Pauldurai\, MD\nIt’s important to gather as
  much information from your doctor as you can. Asking the right questions 
 can help you navigate your appointments and this journey.\n\nCAREGIVING BI
 NDER WORKSHOP\nA care binder is a critical organizational tool to keep tra
 ck of everything related to caregiving duties and your loved one’s care ne
 eds. In this session\, we will start the process of creating care binders 
 for your loved one.\n\nFAMILY DYNAMICS & DEMENTIA\nRebecca Harrison\, LCSW
 \nNavigating family dynamics can be tricky on a good day - but add in a de
 mentia diagnosis and things get even more complex! We’ll learn more about 
 navigating these new dynamics!\n\n<b>*** Respite care available***</b> Ple
 ase contact Melissa at: melissa.long@insightmcc.org by October 11 to reque
 st respite care for this event.\n\n&nbsp\;\n<strong><a href='https://insig
 htmemory.app.neoncrm.com/eventReg.jsp?event=1849&' target='_blank' class='
 button' rel='noreferrer noopener'>Sign Me Up!</a></strong>\n\nMany thanks 
 to our sponsor\, Hunters Woods at Trails Edge!
DTSTART;TZID=America/New_York:20241019T090000
DTEND;TZID=America/New_York:20241019T123000
LOCATION:3955 Pender Drive Suite 100\, Fairfax\, VA 22030 US
SUMMARY:Caregiver Bootcamp
END:VEVENT
END:VCALENDAR
