BEGIN:VCALENDAR
VERSION:2.0
PRODID:-//www.insightmcc.org//NONSGML kigkonsult.se iCalcreator 2.30.10//
CALSCALE:GREGORIAN
METHOD:PUBLISH
UID:20bb02d1-1d07-4cc9-9487-2012d0c629ef
X-WR-CALDESC:Meet Me: Community Outings are free\, and give families living
  with mild cognitive impairment (MCI) or early stage memory loss an opport
 unity to connect and stay engaged in the community\, in a safe and support
 ive way. Outings are designed for both the diagnosed individual and a care
  partner or friend to participate together\, and meet new friends in the p
 rocess!\n\nIn addition to maintaining good brain function and potentially 
 lowering the risk of cognitive decline with age\, a Mediterranean diet off
 ers a wide variety of health benefits. Join us at Eleni's Greek Taverna\, 
 a family-owned restaurant that immerses customers in the experience of tra
 veling and dining in Greece. A limited menu of authentic Greek food and no
 n-alcoholic beverages will be available in our private dining area.\n\nPle
 ase note any food allergies or dietary preferences when you register. IMCC
  is covering the cost of lunch\, nonalcoholic beverages\, tax and gratuity
 .\n\nMany thanks to I'm Still Here for providing funding for this program 
 so that families can participate for free!\n\n&nbsp\;\n<strong><a href='ht
 tps://insightmemory.app.neoncrm.com/eventReg.jsp?event=1896&' target='_bla
 nk' class='button' rel='noreferrer noopener'>Sign Me Up!</a></strong>
X-WR-RELCALID:07cb7a9931dabdc3659b6b7cc0ed7b06
X-WR-TIMEZONE:America/New_York
BEGIN:VTIMEZONE
TZID:America/New_York
BEGIN:STANDARD
TZNAME:EST
DTSTART:20231105T020000
TZOFFSETFROM:-0400
TZOFFSETTO:-0500
RDATE:20241103T020000
RDATE:20251102T020000
END:STANDARD
BEGIN:DAYLIGHT
TZNAME:EDT
DTSTART:20240310T020000
TZOFFSETFROM:-0500
TZOFFSETTO:-0400
RDATE:20250309T020000
RDATE:20260308T020000
END:DAYLIGHT
END:VTIMEZONE
BEGIN:VEVENT
UID:22e06e91-358b-4bde-a934-11f86eada5f2
DTSTAMP:20260421T185045Z
DESCRIPTION:Meet Me: Community Outings are free\, and give families living 
 with mild cognitive impairment (MCI) or early stage memory loss an opportu
 nity to connect and stay engaged in the community\, in a safe and supporti
 ve way. Outings are designed for both the diagnosed individual and a care 
 partner or friend to participate together\, and meet new friends in the pr
 ocess!\n\nIn addition to maintaining good brain function and potentially l
 owering the risk of cognitive decline with age\, a Mediterranean diet offe
 rs a wide variety of health benefits. Join us at Eleni's Greek Taverna\, a
  family-owned restaurant that immerses customers in the experience of trav
 eling and dining in Greece. A limited menu of authentic Greek food and non
 -alcoholic beverages will be available in our private dining area.\n\nPlea
 se note any food allergies or dietary preferences when you register. IMCC 
 is covering the cost of lunch\, nonalcoholic beverages\, tax and gratuity.
 \n\nMany thanks to I'm Still Here for providing funding for this program s
 o that families can participate for free!\n\n&nbsp\;\n<strong><a href='htt
 ps://insightmemory.app.neoncrm.com/eventReg.jsp?event=1896&' target='_blan
 k' class='button' rel='noreferrer noopener'>Sign Me Up!</a></strong>
DTSTART;TZID=America/New_York:20241024T120000
DTEND;TZID=America/New_York:20241024T133000
LOCATION:Eleni's Greek Taverna\, 6131 Backlick Road\, Springfield\, VA 2215
 0 US
SUMMARY:Meet Me: At Eleni's Greek Taverna
END:VEVENT
END:VCALENDAR
