BEGIN:VCALENDAR
VERSION:2.0
PRODID:-//www.insightmcc.org//NONSGML kigkonsult.se iCalcreator 2.30.10//
CALSCALE:GREGORIAN
METHOD:PUBLISH
UID:ab75aa33-ac9a-44b3-b8ac-423478923e15
X-WR-CALDESC:Join us for a special VIRTUAL viewing of the film SPARK - Robi
 n Williams and his Battle with Lewy Body Dementia. This free event will be
  held via Zoom\, with a live panel discussion with the Lewy Body Dementia 
 Association after the movie screening. Learn more about Lewy Body Dementia
  from Williams’ experience!\n\n\nThis event is offered in partnership with
  AARP Virginia and The Lewy Body Dementia Association (LBDA). Please note\
 , this Zoom session will not be recorded\; plan to attend live!\n\n\n&nbsp
 \;\n<strong><a href='https://insightmemory.app.neoncrm.com/eventReg.jsp?ev
 ent=1809&' target='_blank' class='button' rel='noreferrer noopener'>Sign M
 e Up!</a></strong>
X-WR-RELCALID:c7c1170783847ee9b83046f92782d8d5
X-WR-TIMEZONE:America/New_York
BEGIN:VTIMEZONE
TZID:America/New_York
BEGIN:STANDARD
TZNAME:EST
DTSTART:20231105T020000
TZOFFSETFROM:-0400
TZOFFSETTO:-0500
RDATE:20241103T020000
RDATE:20251102T020000
END:STANDARD
BEGIN:DAYLIGHT
TZNAME:EDT
DTSTART:20240310T020000
TZOFFSETFROM:-0500
TZOFFSETTO:-0400
RDATE:20250309T020000
RDATE:20260308T020000
END:DAYLIGHT
END:VTIMEZONE
BEGIN:VEVENT
UID:6b8caeeb-e7c2-4e16-b45c-3e0116876a37
DTSTAMP:20260420T123153Z
DESCRIPTION:Join us for a special VIRTUAL viewing of the film SPARK - Robin
  Williams and his Battle with Lewy Body Dementia. This free event will be 
 held via Zoom\, with a live panel discussion with the Lewy Body Dementia A
 ssociation after the movie screening. Learn more about Lewy Body Dementia 
 from Williams’ experience!\n\n\nThis event is offered in partnership with 
 AARP Virginia and The Lewy Body Dementia Association (LBDA). Please note\,
  this Zoom session will not be recorded\; plan to attend live!\n\n\n&nbsp\
 ;\n<strong><a href='https://insightmemory.app.neoncrm.com/eventReg.jsp?eve
 nt=1809&' target='_blank' class='button' rel='noreferrer noopener'>Sign Me
  Up!</a></strong>
DTSTART;TZID=America/New_York:20241030T190000
DTEND;TZID=America/New_York:20241030T210000
LOCATION:Virtual! Zoom link provided upon registration.
SUMMARY:SPARK Movie Screening and Q&A
END:VEVENT
END:VCALENDAR
