BEGIN:VCALENDAR
VERSION:2.0
PRODID:-//www.insightmcc.org//NONSGML kigkonsult.se iCalcreator 2.30.10//
CALSCALE:GREGORIAN
METHOD:PUBLISH
UID:ef7c58ae-d903-4f8a-993a-37115586824d
X-WR-CALDESC:Northern Virginia Dementia Care Consortium\, 38th Annual Confe
 rence - Navigating the Journey: Adjusting the Sails in Dementia Caregiving
 \n\nYou’re invited to the largest dementia conference in the region focuse
 d on caregivers hosted by the Northern Virginia Dementia Care Consortium.
 \n\nSaturday\, November 2 8:30 a.m. – 3:30 p.m.\nFairfax County Government
  Center\n\nGain insights and practical tips from Teepa Snow trainers\, die
 ticians\, a neurologist from Inova Parkinson’s and Movement Disorders Cent
 er\, and a healthcare system navigation expert.\n\nLearn how to be better 
 prepared to provide care and support through breakout sessions covering fi
 nancial and legal perspectives\, hands-on caregiving skills\, end-of-life 
 care\, food and nutrition options and more!\n\n\nThe $35 conference fee in
 cludes keynote speakers\, breakout sessions\, access to the resource fair\
 , continental breakfast\, lunch\, snacks\, materials\, and a certificate o
 f attendance.\n\nInsight Memory Care Center is a proud and long-standing c
 onsortium member and event sponsor.\n\n\nLearn more or register at the lin
 k below!
X-WR-RELCALID:88e676009ebd8f2fbecf24fedbb9a020
X-WR-TIMEZONE:America/New_York
BEGIN:VTIMEZONE
TZID:America/New_York
BEGIN:STANDARD
TZNAME:EST
DTSTART:20231105T020000
TZOFFSETFROM:-0400
TZOFFSETTO:-0500
RDATE:20241103T020000
RDATE:20251102T020000
END:STANDARD
BEGIN:DAYLIGHT
TZNAME:EDT
DTSTART:20240310T020000
TZOFFSETFROM:-0500
TZOFFSETTO:-0400
RDATE:20250309T020000
RDATE:20260308T020000
END:DAYLIGHT
END:VTIMEZONE
BEGIN:VEVENT
UID:7a715c91-ea46-49f4-a8f5-c70c3c43ce8a
DTSTAMP:20260421T200918Z
DESCRIPTION:Northern Virginia Dementia Care Consortium\, 38th Annual Confer
 ence - Navigating the Journey: Adjusting the Sails in Dementia Caregiving
 \n\nYou’re invited to the largest dementia conference in the region focuse
 d on caregivers hosted by the Northern Virginia Dementia Care Consortium.
 \n\nSaturday\, November 2 8:30 a.m. – 3:30 p.m.\nFairfax County Government
  Center\n\nGain insights and practical tips from Teepa Snow trainers\, die
 ticians\, a neurologist from Inova Parkinson’s and Movement Disorders Cent
 er\, and a healthcare system navigation expert.\n\nLearn how to be better 
 prepared to provide care and support through breakout sessions covering fi
 nancial and legal perspectives\, hands-on caregiving skills\, end-of-life 
 care\, food and nutrition options and more!\n\n\nThe $35 conference fee in
 cludes keynote speakers\, breakout sessions\, access to the resource fair\
 , continental breakfast\, lunch\, snacks\, materials\, and a certificate o
 f attendance.\n\nInsight Memory Care Center is a proud and long-standing c
 onsortium member and event sponsor.\n\n\nLearn more or register at the lin
 k below!
DTSTART;TZID=America/New_York:20241102T083000
DTEND;TZID=America/New_York:20241102T160000
LOCATION:Fairfax County Government Center\, 12000 Government Center Parkway
 \, Fairfax\, VA 22035 US
SUMMARY:Northern Virginia Dementia Care Consortium 2024 Annual Caregiver’s 
 Conference
END:VEVENT
END:VCALENDAR
